BEGIN:VCALENDAR
VERSION:2.0
PRODID:-//Shannon Smith - ECPv6.15.20//NONSGML v1.0//EN
CALSCALE:GREGORIAN
METHOD:PUBLISH
X-WR-CALNAME:Shannon Smith
X-ORIGINAL-URL:https://shannonsmith.ca
X-WR-CALDESC:Events for Shannon Smith
REFRESH-INTERVAL;VALUE=DURATION:PT1H
X-Robots-Tag:noindex
X-PUBLISHED-TTL:PT1H
BEGIN:VTIMEZONE
TZID:America/Edmonton
BEGIN:DAYLIGHT
TZOFFSETFROM:-0700
TZOFFSETTO:-0600
TZNAME:MDT
DTSTART:20120311T090000
END:DAYLIGHT
BEGIN:STANDARD
TZOFFSETFROM:-0600
TZOFFSETTO:-0700
TZNAME:MST
DTSTART:20121104T080000
END:STANDARD
BEGIN:DAYLIGHT
TZOFFSETFROM:-0700
TZOFFSETTO:-0600
TZNAME:MDT
DTSTART:20130310T090000
END:DAYLIGHT
BEGIN:STANDARD
TZOFFSETFROM:-0600
TZOFFSETTO:-0700
TZNAME:MST
DTSTART:20131103T080000
END:STANDARD
BEGIN:DAYLIGHT
TZOFFSETFROM:-0700
TZOFFSETTO:-0600
TZNAME:MDT
DTSTART:20140309T090000
END:DAYLIGHT
BEGIN:STANDARD
TZOFFSETFROM:-0600
TZOFFSETTO:-0700
TZNAME:MST
DTSTART:20141102T080000
END:STANDARD
BEGIN:DAYLIGHT
TZOFFSETFROM:-0700
TZOFFSETTO:-0600
TZNAME:MDT
DTSTART:20150308T090000
END:DAYLIGHT
BEGIN:STANDARD
TZOFFSETFROM:-0600
TZOFFSETTO:-0700
TZNAME:MST
DTSTART:20151101T080000
END:STANDARD
END:VTIMEZONE
BEGIN:VEVENT
DTSTART;VALUE=DATE:20140802
DTEND;VALUE=DATE:20140804
DTSTAMP:20260422T195730
CREATED:20131231T173925Z
LAST-MODIFIED:20140602T232043Z
UID:226-1406948400-1407034799@shannonsmith.ca
SUMMARY:Private Function
DESCRIPTION:
URL:https://shannonsmith.ca/event/private-function/
LOCATION:Unnamed Venue\, Alberta
END:VEVENT
BEGIN:VEVENT
DTSTART;VALUE=DATE:20140724
DTEND;VALUE=DATE:20140728
DTSTAMP:20260422T195730
CREATED:20140112T023857Z
LAST-MODIFIED:20140222T204113Z
UID:438-1406170800-1406429999@shannonsmith.ca
SUMMARY:Wild Bill's 9:30pm
DESCRIPTION:
URL:https://shannonsmith.ca/event/wild-bills-5/
LOCATION:Wild Bill’s Legendary Saloon\, 201 Banff Ave\, Banff\, Alberta\, T1L 1C4\, Canada
END:VEVENT
BEGIN:VEVENT
DTSTART;VALUE=DATE:20140717
DTEND;VALUE=DATE:20140721
DTSTAMP:20260422T195730
CREATED:20140222T204922Z
LAST-MODIFIED:20140222T204939Z
UID:474-1405566000-1405825199@shannonsmith.ca
SUMMARY:Wild Bill's 9:30pm
DESCRIPTION:
URL:https://shannonsmith.ca/event/wild-bills-banff-930pm/
LOCATION:Wild Bill’s Legendary Saloon\, 201 Banff Ave\, Banff\, Alberta\, T1L 1C4\, Canada
END:VEVENT
BEGIN:VEVENT
DTSTART;VALUE=DATE:20140701
DTEND;VALUE=DATE:20140715
DTSTAMP:20260422T195730
CREATED:20131231T173755Z
LAST-MODIFIED:20140112T023606Z
UID:224-1404183600-1405306799@shannonsmith.ca
SUMMARY:Calgary Stampede-TBA
DESCRIPTION:
URL:https://shannonsmith.ca/event/calgary-stampede/
LOCATION:Calgary Stampede
END:VEVENT
BEGIN:VEVENT
DTSTART;VALUE=DATE:20140624
DTEND;VALUE=DATE:20140630
DTSTAMP:20260422T195730
CREATED:20131231T173648Z
LAST-MODIFIED:20140222T204530Z
UID:223-1403578800-1404010799@shannonsmith.ca
SUMMARY:County Line Saloon 9:30pm
DESCRIPTION:
URL:https://shannonsmith.ca/event/county-line-saloon-2/
LOCATION:County Line Saloon\, 1825 50th Street SE\, Calgary\, Alberta\, T2A 0V8\, Canada
END:VEVENT
BEGIN:VEVENT
DTSTART;VALUE=DATE:20140621
DTEND;VALUE=DATE:20140623
DTSTAMP:20260422T195730
CREATED:20140412T191651Z
LAST-MODIFIED:20140412T191651Z
UID:592-1403319600-1403405999@shannonsmith.ca
SUMMARY:Fahler Honey Festival (Shania Tribute)
DESCRIPTION:
URL:https://shannonsmith.ca/event/fahler-honey-festival-shania-tribute/
LOCATION:Unnamed Venue\, Fahler\, Alberta\, Canada
END:VEVENT
BEGIN:VEVENT
DTSTART;VALUE=DATE:20140613
DTEND;VALUE=DATE:20140616
DTSTAMP:20260422T195730
CREATED:20140412T191606Z
LAST-MODIFIED:20140412T191606Z
UID:591-1402628400-1402801199@shannonsmith.ca
SUMMARY:Swine and Sow 10pm
DESCRIPTION:
URL:https://shannonsmith.ca/event/swine-and-sow-10pm-2/
LOCATION:Swine and Sow\, 131 6th Ave SW\, Calgary\, Alberta\, Canada
END:VEVENT
BEGIN:VEVENT
DTSTART;VALUE=DATE:20140606
DTEND;VALUE=DATE:20140609
DTSTAMP:20260422T195730
CREATED:20131231T173608Z
LAST-MODIFIED:20140222T204547Z
UID:222-1402023600-1402196399@shannonsmith.ca
SUMMARY:Casino Yellowhead 9pm
DESCRIPTION:
URL:https://shannonsmith.ca/event/casino-yellowhead-2/
LOCATION:Casino Yellowhead\, 12464 153 St NW\, Edmonton\, Alberta\, T5V 1S5\, Canada
END:VEVENT
BEGIN:VEVENT
DTSTART;VALUE=DATE:20140530
DTEND;VALUE=DATE:20140602
DTSTAMP:20260422T195730
CREATED:20131231T173505Z
LAST-MODIFIED:20140222T204605Z
UID:221-1401418800-1401591599@shannonsmith.ca
SUMMARY:Elbow River Casino 9:30pm
DESCRIPTION:
URL:https://shannonsmith.ca/event/elbow-river-casino-2/
LOCATION:Elbow River Casino\, 218 18 Ave SE\, Calgary\, Alberta\, T2G 1L1\, Canada
END:VEVENT
BEGIN:VEVENT
DTSTART;VALUE=DATE:20140523
DTEND;VALUE=DATE:20140526
DTSTAMP:20260422T195730
CREATED:20140412T191534Z
LAST-MODIFIED:20140412T191534Z
UID:589-1400814000-1400986799@shannonsmith.ca
SUMMARY:Swine and Sow 10pm
DESCRIPTION:
URL:https://shannonsmith.ca/event/swine-and-sow-10pm/
LOCATION:Swine and Sow\, 131 6th Ave SW\, Calgary\, Alberta\, Canada
END:VEVENT
BEGIN:VEVENT
DTSTART;VALUE=DATE:20140515
DTEND;VALUE=DATE:20140519
DTSTAMP:20260422T195730
CREATED:20140112T023213Z
LAST-MODIFIED:20140222T204052Z
UID:436-1400122800-1400381999@shannonsmith.ca
SUMMARY:Ranchman's 9pm
DESCRIPTION:
URL:https://shannonsmith.ca/event/ranchmans-5/
LOCATION:Ranchman’s Cook House & Dancehall Inc.\, 9615 Macleod Trail SW\, Calgary\, Alberta\, T2J 0P6\, Canada
END:VEVENT
BEGIN:VEVENT
DTSTART;VALUE=DATE:20140429
DTEND;VALUE=DATE:20140505
DTSTAMP:20260422T195730
CREATED:20140107T201003Z
LAST-MODIFIED:20140222T205523Z
UID:429-1398740400-1399172399@shannonsmith.ca
SUMMARY:County Line Saloon 9:30pm
DESCRIPTION:
URL:https://shannonsmith.ca/event/county-line-saloon-4/
LOCATION:County Line Saloon\, 1825 50th Street SE\, Calgary\, Alberta\, T2A 0V8\, Canada
END:VEVENT
BEGIN:VEVENT
DTSTART;VALUE=DATE:20140424
DTEND;VALUE=DATE:20140428
DTSTAMP:20260422T195730
CREATED:20131231T173233Z
LAST-MODIFIED:20140222T204625Z
UID:218-1398308400-1398567599@shannonsmith.ca
SUMMARY:Wild Bill's 9:30pm
DESCRIPTION:
URL:https://shannonsmith.ca/event/wild-bills-3/
LOCATION:Wild Bill’s Legendary Saloon\, 201 Banff Ave\, Banff\, Alberta\, T1L 1C4\, Canada
END:VEVENT
BEGIN:VEVENT
DTSTART;VALUE=DATE:20140418
DTEND;VALUE=DATE:20140421
DTSTAMP:20260422T195730
CREATED:20131231T082940Z
LAST-MODIFIED:20140222T204648Z
UID:208-1397790000-1397962799@shannonsmith.ca
SUMMARY:Grey Eagle Casino 9pm
DESCRIPTION:
URL:https://shannonsmith.ca/event/grey-eagle-casino/
LOCATION:Grey Eagle Casino\, 3777 Grey Eagle Dr SW\, Calgary\, T3E 3X8
END:VEVENT
BEGIN:VEVENT
DTSTART;VALUE=DATE:20140411
DTEND;VALUE=DATE:20140414
DTSTAMP:20260422T195730
CREATED:20140112T022548Z
LAST-MODIFIED:20140222T203835Z
UID:434-1397185200-1397357999@shannonsmith.ca
SUMMARY:Murrietta's 9pm
DESCRIPTION:
URL:https://shannonsmith.ca/event/murriettas/
LOCATION:Murrieta’s Bar and Grill\, 200 - 808 1st St SW\, Calgary\, Alberta\, T2P 7N2\, Canada
END:VEVENT
BEGIN:VEVENT
DTSTART;VALUE=DATE:20140405
DTEND;VALUE=DATE:20140407
DTSTAMP:20260422T195730
CREATED:20131231T082856Z
LAST-MODIFIED:20140314T031220Z
UID:207-1396666800-1396753199@shannonsmith.ca
SUMMARY:Shamrock Hotel 9pm
DESCRIPTION:
URL:https://shannonsmith.ca/event/casino-edmonton/
LOCATION:Shamrock Hotel\, Calgary
END:VEVENT
BEGIN:VEVENT
DTSTART;VALUE=DATE:20140328
DTEND;VALUE=DATE:20140331
DTSTAMP:20260422T195730
CREATED:20140107T202013Z
LAST-MODIFIED:20140222T205813Z
UID:430-1395975600-1396148399@shannonsmith.ca
SUMMARY:Vintage Chophouse 10pm
DESCRIPTION:
URL:https://shannonsmith.ca/event/vintage-chophouse/
LOCATION:Vintage Chophouse\, 320 11 Ave SW\, Calgary\, Alberta\, T2R 0C5\, Canada
END:VEVENT
BEGIN:VEVENT
DTSTART;VALUE=DATE:20140321
DTEND;VALUE=DATE:20140324
DTSTAMP:20260422T195730
CREATED:20131231T075316Z
LAST-MODIFIED:20140222T204723Z
UID:199-1395370800-1395543599@shannonsmith.ca
SUMMARY:Casino Calgary 9pm
DESCRIPTION:
URL:https://shannonsmith.ca/event/casino-calgary/
LOCATION:Casino Calgary\, 1420 Meridian Rd NE\, Calgary\, Alberta\, T2A 2N9\, Canada
END:VEVENT
BEGIN:VEVENT
DTSTART;VALUE=DATE:20140228
DTEND;VALUE=DATE:20140303
DTSTAMP:20260422T195730
CREATED:20131231T075157Z
LAST-MODIFIED:20140222T204755Z
UID:197-1393556400-1393729199@shannonsmith.ca
SUMMARY:Elbow River Casino 9:30pm
DESCRIPTION:
URL:https://shannonsmith.ca/event/elbow-river-casino/
LOCATION:Elbow River Casino\, 218 18 Ave SE\, Calgary\, Alberta\, T2G 1L1\, Canada
END:VEVENT
BEGIN:VEVENT
DTSTART;VALUE=DATE:20140221
DTEND;VALUE=DATE:20140224
DTSTAMP:20260422T195730
CREATED:20131231T075120Z
LAST-MODIFIED:20140222T204813Z
UID:196-1392951600-1393124399@shannonsmith.ca
SUMMARY:Casino Yellowhead 9pm
DESCRIPTION:
URL:https://shannonsmith.ca/event/casino-yellowhead/
LOCATION:Casino Yellowhead\, 12464 153 St NW\, Edmonton\, Alberta\, T5V 1S5\, Canada
END:VEVENT
BEGIN:VEVENT
DTSTART;VALUE=DATE:20140213
DTEND;VALUE=DATE:20140217
DTSTAMP:20260422T195730
CREATED:20131231T074258Z
LAST-MODIFIED:20140107T200148Z
UID:195-1392260400-1392519599@shannonsmith.ca
SUMMARY:Ranchman's
DESCRIPTION:
URL:https://shannonsmith.ca/event/ranchmans-2/
LOCATION:Ranchman’s Cook House & Dancehall Inc.\, 9615 Macleod Trail SW\, Calgary\, Alberta\, T2J 0P6\, Canada
END:VEVENT
BEGIN:VEVENT
DTSTART;VALUE=DATE:20140208
DTEND;VALUE=DATE:20140210
DTSTAMP:20260422T195730
CREATED:20131231T074215Z
LAST-MODIFIED:20140204T234142Z
UID:194-1391828400-1391914799@shannonsmith.ca
SUMMARY:Edmonton Agricultural Society
DESCRIPTION:
URL:https://shannonsmith.ca/event/edmonton-agricultural-society/
LOCATION:Edmonton Agricultural Society
END:VEVENT
BEGIN:VEVENT
DTSTART;VALUE=DATE:20140130
DTEND;VALUE=DATE:20140203
DTSTAMP:20260422T195730
CREATED:20131231T070606Z
LAST-MODIFIED:20140107T200100Z
UID:189-1391050800-1391309999@shannonsmith.ca
SUMMARY:Wild Bill's
DESCRIPTION:
URL:https://shannonsmith.ca/event/wild-bills-2/
LOCATION:Wild Bill’s Legendary Saloon\, 201 Banff Ave\, Banff\, Alberta\, T1L 1C4\, Canada
END:VEVENT
BEGIN:VEVENT
DTSTART;VALUE=DATE:20140125
DTEND;VALUE=DATE:20140127
DTSTAMP:20260422T195730
CREATED:20131231T070742Z
LAST-MODIFIED:20140121T050930Z
UID:190-1390618800-1390705199@shannonsmith.ca
SUMMARY:Corporate Function
DESCRIPTION:
URL:https://shannonsmith.ca/event/corporate-function/
LOCATION:Alberta
ATTACH;FMTTYPE=image/jpeg:https://shannonsmith.ca/wp-content/uploads/wreck-on-the-highway.jpg
END:VEVENT
BEGIN:VEVENT
DTSTART;TZID=America/Edmonton:20140117T210000
DTEND;TZID=America/Edmonton:20140117T210000
DTSTAMP:20260422T195730
CREATED:20140107T194811Z
LAST-MODIFIED:20140107T194811Z
UID:427-1389992400-1389992400@shannonsmith.ca
SUMMARY:Shamrock Hotel
DESCRIPTION:
URL:https://shannonsmith.ca/event/shamrock-hotel/
LOCATION:Shamrock Hotel\, Calgary
END:VEVENT
BEGIN:VEVENT
DTSTART;VALUE=DATE:20131227
DTEND;VALUE=DATE:20131229
DTSTAMP:20260422T195730
CREATED:20131231T070512Z
LAST-MODIFIED:20131231T070512Z
UID:188-1388102400-1388275199@shannonsmith.ca
SUMMARY:Casino Lethbridge
DESCRIPTION:
URL:https://shannonsmith.ca/event/casino-lethbridge/
LOCATION:Casino Lethbridge\, 3756 2 Ave S\, Lethbridge\, Alberta\, T1J 4Y9\, Canada
END:VEVENT
BEGIN:VEVENT
DTSTART;VALUE=DATE:20131219
DTEND;VALUE=DATE:20131222
DTSTAMP:20260422T195730
CREATED:20131231T070413Z
LAST-MODIFIED:20131231T070413Z
UID:187-1387411200-1387670399@shannonsmith.ca
SUMMARY:Ranchman's
DESCRIPTION:
URL:https://shannonsmith.ca/event/ranchmans/
LOCATION:Ranchman’s Cook House & Dancehall Inc.\, 9615 Macleod Trail SW\, Calgary\, Alberta\, T2J 0P6\, Canada
END:VEVENT
BEGIN:VEVENT
DTSTART;VALUE=DATE:20131212
DTEND;VALUE=DATE:20131215
DTSTAMP:20260422T195730
CREATED:20131231T070238Z
LAST-MODIFIED:20131231T070238Z
UID:186-1386806400-1387065599@shannonsmith.ca
SUMMARY:Wild Bill's
DESCRIPTION:
URL:https://shannonsmith.ca/event/wild-bills/
LOCATION:Wild Bill’s Legendary Saloon\, 201 Banff Ave\, Banff\, Alberta\, T1L 1C4\, Canada
END:VEVENT
END:VCALENDAR