BEGIN:VCALENDAR
VERSION:2.0
PRODID:-//Shannon Smith - ECPv6.15.20//NONSGML v1.0//EN
CALSCALE:GREGORIAN
METHOD:PUBLISH
X-ORIGINAL-URL:https://shannonsmith.ca
X-WR-CALDESC:Events for Shannon Smith
REFRESH-INTERVAL;VALUE=DURATION:PT1H
X-Robots-Tag:noindex
X-PUBLISHED-TTL:PT1H
BEGIN:VTIMEZONE
TZID:America/Edmonton
BEGIN:DAYLIGHT
TZOFFSETFROM:-0700
TZOFFSETTO:-0600
TZNAME:MDT
DTSTART:20140309T090000
END:DAYLIGHT
BEGIN:STANDARD
TZOFFSETFROM:-0600
TZOFFSETTO:-0700
TZNAME:MST
DTSTART:20141102T080000
END:STANDARD
BEGIN:DAYLIGHT
TZOFFSETFROM:-0700
TZOFFSETTO:-0600
TZNAME:MDT
DTSTART:20150308T090000
END:DAYLIGHT
BEGIN:STANDARD
TZOFFSETFROM:-0600
TZOFFSETTO:-0700
TZNAME:MST
DTSTART:20151101T080000
END:STANDARD
BEGIN:DAYLIGHT
TZOFFSETFROM:-0700
TZOFFSETTO:-0600
TZNAME:MDT
DTSTART:20160313T090000
END:DAYLIGHT
BEGIN:STANDARD
TZOFFSETFROM:-0600
TZOFFSETTO:-0700
TZNAME:MST
DTSTART:20161106T080000
END:STANDARD
END:VTIMEZONE
BEGIN:VEVENT
DTSTART;TZID=America/Edmonton:20150918T210000
DTEND;TZID=America/Edmonton:20150919T010000
DTSTAMP:20260422T115610
CREATED:20150317T074508Z
LAST-MODIFIED:20150518T205420Z
UID:822-1442610000-1442624400@shannonsmith.ca
SUMMARY:Draft  Night Club- Edmonton Friday & Saturday
DESCRIPTION:
URL:https://shannonsmith.ca/event/murrietas-bar-and-grill/
LOCATION:Unnamed Venue\, Calgary\, Alberta\, T2P 7N2
END:VEVENT
BEGIN:VEVENT
DTSTART;TZID=America/Edmonton:20150911T220000
DTEND;TZID=America/Edmonton:20150911T220000
DTSTAMP:20260422T115610
CREATED:20150809T160531Z
LAST-MODIFIED:20150809T160828Z
UID:926-1442008800-1442008800@shannonsmith.ca
SUMMARY:Vintage Chophouse & Tavern- Friday/Saturday
DESCRIPTION:
URL:https://shannonsmith.ca/event/vintage-chophouse-tavern-fridaysaturday/
END:VEVENT
BEGIN:VEVENT
DTSTART;TZID=America/Edmonton:20150829T200000
DTEND;TZID=America/Edmonton:20150829T200000
DTSTAMP:20260422T115610
CREATED:20150729T041755Z
LAST-MODIFIED:20150809T160113Z
UID:915-1440878400-1440878400@shannonsmith.ca
SUMMARY:Springbrook Multiplex: For Tickets & Info call 403-886-2724 -Saturday Only
DESCRIPTION:
URL:https://shannonsmith.ca/event/springbrook-multiplex-for-tickets-info-call-403-886-2724-saturday-only/
LOCATION:Springbrook Multiplex
END:VEVENT
BEGIN:VEVENT
DTSTART;TZID=America/Edmonton:20150816T150000
DTEND;TZID=America/Edmonton:20150816T154500
DTSTAMP:20260422T115610
CREATED:20150809T155200Z
LAST-MODIFIED:20150809T155200Z
UID:925-1439737200-1439739900@shannonsmith.ca
SUMMARY:Longstock Festival in Longview- Sunday Aug 16th @3:00pm
DESCRIPTION:
URL:https://shannonsmith.ca/event/longstock-festival-in-longview-sunday-aug-16th-300pm/
END:VEVENT
BEGIN:VEVENT
DTSTART;TZID=America/Edmonton:20150815T213000
DTEND;TZID=America/Edmonton:20150815T213000
DTSTAMP:20260422T115610
CREATED:20150718T213440Z
LAST-MODIFIED:20150809T155536Z
UID:904-1439674200-1439674200@shannonsmith.ca
SUMMARY:Wild Bill's Banff -Saturday
DESCRIPTION:
URL:https://shannonsmith.ca/event/wild-bills-banff-2/
END:VEVENT
BEGIN:VEVENT
DTSTART;TZID=America/Edmonton:20150814T213000
DTEND;TZID=America/Edmonton:20150814T213000
DTSTAMP:20260422T115610
CREATED:20150718T213318Z
LAST-MODIFIED:20150809T155522Z
UID:903-1439587800-1439587800@shannonsmith.ca
SUMMARY:Wild Bill's Banff - Friday
DESCRIPTION:
URL:https://shannonsmith.ca/event/wild-bills-banff/
END:VEVENT
BEGIN:VEVENT
DTSTART;VALUE=DATE:20150813
DTEND;VALUE=DATE:20150817
DTSTAMP:20260422T115610
CREATED:20141229T021105Z
LAST-MODIFIED:20150809T155451Z
UID:777-1439434800-1439693999@shannonsmith.ca
SUMMARY:Wild Bill's Banff - Thursday @9:30pm
DESCRIPTION:
URL:https://shannonsmith.ca/event/wild-bills-banff-930pm-5/
LOCATION:Wild Bill’s Legendary Saloon\, 201 Banff Ave\, Banff\, Alberta\, T1L 1C4\, Canada
END:VEVENT
BEGIN:VEVENT
DTSTART;TZID=America/Edmonton:20150808T193000
DTEND;TZID=America/Edmonton:20150808T233000
DTSTAMP:20260422T115610
CREATED:20150413T023924Z
LAST-MODIFIED:20150718T212923Z
UID:845-1439062200-1439076600@shannonsmith.ca
SUMMARY:Silver Springs Golf & Country Club- Private Party
DESCRIPTION:
URL:https://shannonsmith.ca/event/tentative-booking/
END:VEVENT
BEGIN:VEVENT
DTSTART;TZID=America/Edmonton:20150807T193000
DTEND;TZID=America/Edmonton:20150807T220000
DTSTAMP:20260422T115610
CREATED:20150413T025359Z
LAST-MODIFIED:20150413T025359Z
UID:849-1438975800-1438984800@shannonsmith.ca
SUMMARY:Pine Lake
DESCRIPTION:
URL:https://shannonsmith.ca/event/pine-lake/
END:VEVENT
BEGIN:VEVENT
DTSTART;VALUE=DATE:20150724
DTEND;VALUE=DATE:20150726
DTSTAMP:20260422T115610
CREATED:20150204T230759Z
LAST-MODIFIED:20150718T214142Z
UID:799-1437706800-1437793199@shannonsmith.ca
SUMMARY:Vermilion Fair Grandstand Show 8:30 PM
DESCRIPTION:
URL:https://shannonsmith.ca/event/vermillion-fair-grandstand-show/
LOCATION:Unnamed Venue\, Vermillion\, Alberta\, Canada
END:VEVENT
BEGIN:VEVENT
DTSTART;TZID=America/Edmonton:20150718T213000
DTEND;TZID=America/Edmonton:20150718T213000
DTSTAMP:20260422T115610
CREATED:20150718T214407Z
LAST-MODIFIED:20150718T214407Z
UID:908-1437255000-1437255000@shannonsmith.ca
SUMMARY:Elbow River Casino 9:30 pm
DESCRIPTION:
URL:https://shannonsmith.ca/event/elbow-river-casino-930-pm/
END:VEVENT
BEGIN:VEVENT
DTSTART;VALUE=DATE:20150717
DTEND;VALUE=DATE:20150720
DTSTAMP:20260422T115610
CREATED:20150204T230706Z
LAST-MODIFIED:20150317T074029Z
UID:798-1437102000-1437274799@shannonsmith.ca
SUMMARY:Elbow River Casino 9:30pm
DESCRIPTION:
URL:https://shannonsmith.ca/event/elbow-river-casino-930pm-2/
LOCATION:Elbow River Casino\, 218 18 Ave SE\, Calgary\, Alberta\, T2G 1L1\, Canada
END:VEVENT
BEGIN:VEVENT
DTSTART;VALUE=DATE:20150620
DTEND;VALUE=DATE:20150622
DTSTAMP:20260422T115610
CREATED:20141229T021017Z
LAST-MODIFIED:20150518T204712Z
UID:776-1434769200-1434855599@shannonsmith.ca
SUMMARY:High River Rodeo Saturday eve
DESCRIPTION:
URL:https://shannonsmith.ca/event/county-line-saloon-930pm-2/
LOCATION:Unnamed Venue\, Edson\, Alberta\, Canada
END:VEVENT
BEGIN:VEVENT
DTSTART;TZID=America/Edmonton:20150613T190000
DTEND;TZID=America/Edmonton:20150613T230000
DTSTAMP:20260422T115610
CREATED:20150606T034629Z
LAST-MODIFIED:20150606T034629Z
UID:890-1434222000-1434236400@shannonsmith.ca
SUMMARY:Silver Springs Golf & Country Club
DESCRIPTION:
URL:https://shannonsmith.ca/event/silver-springs-golf-country-club/
END:VEVENT
BEGIN:VEVENT
DTSTART;VALUE=DATE:20150606
DTEND;VALUE=DATE:20150608
DTSTAMP:20260422T115610
CREATED:20141229T020945Z
LAST-MODIFIED:20150403T184850Z
UID:775-1433559600-1433645999@shannonsmith.ca
SUMMARY:Calgary Curling Club: Rotary Club Giddy Up Soiree Fundraiser
DESCRIPTION:For tickets\, visit www.rotarycentennial.ca/giddyupsoiree
URL:https://shannonsmith.ca/event/private-event-calgary-curling-club/
END:VEVENT
BEGIN:VEVENT
DTSTART;VALUE=DATE:20150530
DTEND;VALUE=DATE:20150601
DTSTAMP:20260422T115610
CREATED:20141229T020912Z
LAST-MODIFIED:20141229T020912Z
UID:774-1432954800-1433041199@shannonsmith.ca
SUMMARY:Private Wedding Calgary
DESCRIPTION:
URL:https://shannonsmith.ca/event/private-wedding-calgary/
END:VEVENT
BEGIN:VEVENT
DTSTART;TZID=America/Edmonton:20150523T210000
DTEND;TZID=America/Edmonton:20150523T235000
DTSTAMP:20260422T115610
CREATED:20150303T203630Z
LAST-MODIFIED:20150303T203630Z
UID:814-1432414800-1432425000@shannonsmith.ca
SUMMARY:Casino Calgary (Shania Twain Tribute) *Saturday only
DESCRIPTION:
URL:https://shannonsmith.ca/event/casino-calgary-shania-twain-tribute-saturday-only/
LOCATION:Casino Calgary\, 1420 Meridian Rd NE\, Calgary\, Alberta\, T2A 2N9\, Canada
END:VEVENT
BEGIN:VEVENT
DTSTART;TZID=America/Edmonton:20150522T210000
DTEND;TZID=America/Edmonton:20150522T230000
DTSTAMP:20260422T115610
CREATED:20150303T203143Z
LAST-MODIFIED:20150303T203143Z
UID:813-1432328400-1432335600@shannonsmith.ca
SUMMARY:Casino Calgary
DESCRIPTION:
URL:https://shannonsmith.ca/event/casino-calgary-2/
LOCATION:Casino Calgary\, 1420 Meridian Rd NE\, Calgary\, Alberta\, T2A 2N9\, Canada
END:VEVENT
BEGIN:VEVENT
DTSTART;VALUE=DATE:20150514
DTEND;VALUE=DATE:20150518
DTSTAMP:20260422T115610
CREATED:20141229T020810Z
LAST-MODIFIED:20141229T020810Z
UID:772-1431572400-1431831599@shannonsmith.ca
SUMMARY:Ranchman's Calgary 9pm
DESCRIPTION:
URL:https://shannonsmith.ca/event/ranchmans-calgary-9pm-2/
LOCATION:Ranchman’s Cook House & Dancehall Inc.\, 9615 Macleod Trail SW\, Calgary\, Alberta\, T2J 0P6\, Canada
END:VEVENT
BEGIN:VEVENT
DTSTART;VALUE=DATE:20150507
DTEND;VALUE=DATE:20150511
DTSTAMP:20260422T115610
CREATED:20141229T020736Z
LAST-MODIFIED:20141229T020736Z
UID:771-1430967600-1431226799@shannonsmith.ca
SUMMARY:Wild Bill's Banff 9:30pm
DESCRIPTION:
URL:https://shannonsmith.ca/event/wild-bills-banff-930pm-4/
LOCATION:Wild Bill’s Legendary Saloon\, 201 Banff Ave\, Banff\, Alberta\, T1L 1C4\, Canada
END:VEVENT
BEGIN:VEVENT
DTSTART;TZID=America/Edmonton:20150429T180000
DTEND;TZID=America/Edmonton:20150429T180000
DTSTAMP:20260422T115610
CREATED:20150413T023708Z
LAST-MODIFIED:20150413T023708Z
UID:844-1430330400-1430330400@shannonsmith.ca
SUMMARY:Ranchman's Stampede Kick Off Party
DESCRIPTION:
URL:https://shannonsmith.ca/event/ranchmans-stampede-kick-off-party/
LOCATION:Ranchman’s Cook House & Dancehall Inc.\, 9615 Macleod Trail SW\, Calgary\, Alberta\, T2J 0P6\, Canada
END:VEVENT
BEGIN:VEVENT
DTSTART;TZID=America/Edmonton:20150426T170000
DTEND;TZID=America/Edmonton:20150426T220000
DTSTAMP:20260422T115610
CREATED:20150413T023535Z
LAST-MODIFIED:20150413T023535Z
UID:843-1430067600-1430085600@shannonsmith.ca
SUMMARY:Century Downs Casino Sunday
DESCRIPTION:
URL:https://shannonsmith.ca/event/century-downs-casino-sunday/
END:VEVENT
BEGIN:VEVENT
DTSTART;TZID=America/Edmonton:20150425T130000
DTEND;TZID=America/Edmonton:20150425T200000
DTSTAMP:20260422T115610
CREATED:20150413T022928Z
LAST-MODIFIED:20150413T022928Z
UID:841-1429966800-1429992000@shannonsmith.ca
SUMMARY:Ranchman's Afternoon Jam 4:30pm
DESCRIPTION:
URL:https://shannonsmith.ca/event/ranchmans-afternoon-jam-430pm/
LOCATION:Ranchman’s Cook House & Dancehall Inc.\, 9615 Macleod Trail SW\, Calgary\, Alberta\, T2J 0P6\, Canada
END:VEVENT
BEGIN:VEVENT
DTSTART;TZID=America/Edmonton:20150425T120000
DTEND;TZID=America/Edmonton:20150425T131500
DTSTAMP:20260422T115610
CREATED:20150413T023241Z
LAST-MODIFIED:20150413T023241Z
UID:842-1429963200-1429967700@shannonsmith.ca
SUMMARY:VIP acoustic Show  noon-1:15
DESCRIPTION:
URL:https://shannonsmith.ca/event/vip-acoustic-show-noon-115/
END:VEVENT
BEGIN:VEVENT
DTSTART;VALUE=DATE:20150424
DTEND;VALUE=DATE:20150426
DTSTAMP:20260422T115610
CREATED:20141229T020557Z
LAST-MODIFIED:20141229T020557Z
UID:769-1429844400-1429930799@shannonsmith.ca
SUMMARY:Grey Eagle Casino 9pm
DESCRIPTION:
URL:https://shannonsmith.ca/event/grey-eagle-casino-9pm/
LOCATION:Grey Eagle Casino\, 3777 Grey Eagle Dr SW\, Calgary\, T3E 3X8
END:VEVENT
BEGIN:VEVENT
DTSTART;VALUE=DATE:20150410
DTEND;VALUE=DATE:20150413
DTSTAMP:20260422T115610
CREATED:20141229T020521Z
LAST-MODIFIED:20141229T020521Z
UID:768-1428634800-1428807599@shannonsmith.ca
SUMMARY:Casino Lethbridge 8pm
DESCRIPTION:
URL:https://shannonsmith.ca/event/casino-lethbridge-8pm/
LOCATION:Casino Lethbridge\, 3756 2 Ave S\, Lethbridge\, Alberta\, T1J 4Y9\, Canada
END:VEVENT
BEGIN:VEVENT
DTSTART;VALUE=DATE:20150313
DTEND;VALUE=DATE:20150316
DTSTAMP:20260422T115610
CREATED:20141229T020438Z
LAST-MODIFIED:20141229T020438Z
UID:767-1426215600-1426388399@shannonsmith.ca
SUMMARY:Elbow River Casino 9:30pm
DESCRIPTION:
URL:https://shannonsmith.ca/event/elbow-river-casino-930pm/
LOCATION:Elbow River Casino\, 218 18 Ave SE\, Calgary\, Alberta\, T2G 1L1\, Canada
END:VEVENT
BEGIN:VEVENT
DTSTART;VALUE=DATE:20150305
DTEND;VALUE=DATE:20150309
DTSTAMP:20260422T115610
CREATED:20141229T020406Z
LAST-MODIFIED:20141229T020406Z
UID:766-1425524400-1425787199@shannonsmith.ca
SUMMARY:Wild Bill's Banff 9:30pm
DESCRIPTION:
URL:https://shannonsmith.ca/event/wild-bills-banff-930pm-3/
LOCATION:Wild Bill’s Legendary Saloon\, 201 Banff Ave\, Banff\, Alberta\, T1L 1C4\, Canada
END:VEVENT
BEGIN:VEVENT
DTSTART;VALUE=DATE:20150228
DTEND;VALUE=DATE:20150302
DTSTAMP:20260422T115610
CREATED:20141229T020329Z
LAST-MODIFIED:20141229T020329Z
UID:765-1425092400-1425178799@shannonsmith.ca
SUMMARY:Blairmore Winter Festival
DESCRIPTION:
URL:https://shannonsmith.ca/event/blairmore-winter-festival/
END:VEVENT
BEGIN:VEVENT
DTSTART;VALUE=DATE:20150219
DTEND;VALUE=DATE:20150223
DTSTAMP:20260422T115610
CREATED:20141229T020301Z
LAST-MODIFIED:20141229T020301Z
UID:764-1424314800-1424573999@shannonsmith.ca
SUMMARY:Ranchman's Calgary 9pm
DESCRIPTION:
URL:https://shannonsmith.ca/event/ranchmans-calgary-9pm/
LOCATION:Ranchman’s Cook House & Dancehall Inc.\, 9615 Macleod Trail SW\, Calgary\, Alberta\, T2J 0P6\, Canada
END:VEVENT
END:VCALENDAR