BEGIN:VCALENDAR
VERSION:2.0
PRODID:-//Shannon Smith - ECPv6.15.20//NONSGML v1.0//EN
CALSCALE:GREGORIAN
METHOD:PUBLISH
X-WR-CALNAME:Shannon Smith
X-ORIGINAL-URL:https://shannonsmith.ca
X-WR-CALDESC:Events for Shannon Smith
REFRESH-INTERVAL;VALUE=DURATION:PT1H
X-Robots-Tag:noindex
X-PUBLISHED-TTL:PT1H
BEGIN:VTIMEZONE
TZID:America/Edmonton
BEGIN:DAYLIGHT
TZOFFSETFROM:-0700
TZOFFSETTO:-0600
TZNAME:MDT
DTSTART:20140309T090000
END:DAYLIGHT
BEGIN:STANDARD
TZOFFSETFROM:-0600
TZOFFSETTO:-0700
TZNAME:MST
DTSTART:20141102T080000
END:STANDARD
BEGIN:DAYLIGHT
TZOFFSETFROM:-0700
TZOFFSETTO:-0600
TZNAME:MDT
DTSTART:20150308T090000
END:DAYLIGHT
BEGIN:STANDARD
TZOFFSETFROM:-0600
TZOFFSETTO:-0700
TZNAME:MST
DTSTART:20151101T080000
END:STANDARD
BEGIN:DAYLIGHT
TZOFFSETFROM:-0700
TZOFFSETTO:-0600
TZNAME:MDT
DTSTART:20160313T090000
END:DAYLIGHT
BEGIN:STANDARD
TZOFFSETFROM:-0600
TZOFFSETTO:-0700
TZNAME:MST
DTSTART:20161106T080000
END:STANDARD
BEGIN:DAYLIGHT
TZOFFSETFROM:-0700
TZOFFSETTO:-0600
TZNAME:MDT
DTSTART:20170312T090000
END:DAYLIGHT
BEGIN:STANDARD
TZOFFSETFROM:-0600
TZOFFSETTO:-0700
TZNAME:MST
DTSTART:20171105T080000
END:STANDARD
END:VTIMEZONE
BEGIN:VEVENT
DTSTART;TZID=America/Edmonton:20160227T213000
DTEND;TZID=America/Edmonton:20160227T213000
DTSTAMP:20260422T084601
CREATED:20160111T050820Z
LAST-MODIFIED:20160111T050820Z
UID:982-1456608600-1456608600@shannonsmith.ca
SUMMARY:Elbow River Casino 9:30pm
DESCRIPTION:
URL:https://shannonsmith.ca/event/elbow-river-casino-930pm-4/
LOCATION:Elbow River Casino\, 218 18 Ave SE\, Calgary\, Alberta\, T2G 1L1\, Canada
END:VEVENT
BEGIN:VEVENT
DTSTART;TZID=America/Edmonton:20160226T213000
DTEND;TZID=America/Edmonton:20160226T213000
DTSTAMP:20260422T084601
CREATED:20160111T050652Z
LAST-MODIFIED:20160111T050652Z
UID:981-1456522200-1456522200@shannonsmith.ca
SUMMARY:Elbow River Casino 9:30pm
DESCRIPTION:
URL:https://shannonsmith.ca/event/elbow-river-casino-930pm-3/
LOCATION:Elbow River Casino\, 218 18 Ave SE\, Calgary\, Alberta\, T2G 1L1\, Canada
END:VEVENT
BEGIN:VEVENT
DTSTART;TZID=America/Edmonton:20160205T093000
DTEND;TZID=America/Edmonton:20160205T093000
DTSTAMP:20260422T084601
CREATED:20160111T050449Z
LAST-MODIFIED:20160111T061132Z
UID:980-1454664600-1454664600@shannonsmith.ca
SUMMARY:Wild Bill's\, Banff (Friday)
DESCRIPTION:
URL:https://shannonsmith.ca/event/wild-bills-banff-friday/
LOCATION:Wild Bill’s Legendary Saloon\, 201 Banff Ave\, Banff\, Alberta\, T1L 1C4\, Canada
END:VEVENT
BEGIN:VEVENT
DTSTART;TZID=America/Edmonton:20160204T213000
DTEND;TZID=America/Edmonton:20160204T213000
DTSTAMP:20260422T084601
CREATED:20160111T050339Z
LAST-MODIFIED:20160111T050339Z
UID:979-1454621400-1454621400@shannonsmith.ca
SUMMARY:Wild Bill's\, Banff (Thursday)
DESCRIPTION:
URL:https://shannonsmith.ca/event/wild-bills-banff-thursday/
LOCATION:Wild Bill’s Legendary Saloon\, 201 Banff Ave\, Banff\, Alberta\, T1L 1C4\, Canada
END:VEVENT
BEGIN:VEVENT
DTSTART;TZID=America/Edmonton:20160203T213000
DTEND;TZID=America/Edmonton:20160203T213000
DTSTAMP:20260422T084601
CREATED:20160111T050033Z
LAST-MODIFIED:20160111T050033Z
UID:978-1454535000-1454535000@shannonsmith.ca
SUMMARY:Wild Bill's\, Banff (Wednesday)
DESCRIPTION:
URL:https://shannonsmith.ca/event/wild-bills-banff-wednesday/
LOCATION:Wild Bill’s Legendary Saloon\, 201 Banff Ave\, Banff\, Alberta\, T1L 1C4\, Canada
END:VEVENT
BEGIN:VEVENT
DTSTART;TZID=America/Edmonton:20160130T200000
DTEND;TZID=America/Edmonton:20160130T200000
DTSTAMP:20260422T084601
CREATED:20160111T045734Z
LAST-MODIFIED:20160111T045834Z
UID:977-1454184000-1454184000@shannonsmith.ca
SUMMARY:Ranchman's 8:30pm
DESCRIPTION:
URL:https://shannonsmith.ca/event/ranchmans-830/
LOCATION:Ranchman’s Cook House & Dancehall Inc.\, 9615 Macleod Trail SW\, Calgary\, Alberta\, T2J 0P6\, Canada
END:VEVENT
BEGIN:VEVENT
DTSTART;TZID=America/Edmonton:20160129T200000
DTEND;TZID=America/Edmonton:20160129T200000
DTSTAMP:20260422T084601
CREATED:20160111T045548Z
LAST-MODIFIED:20160111T045548Z
UID:976-1454097600-1454097600@shannonsmith.ca
SUMMARY:Ranchman's 8:00pm
DESCRIPTION:
URL:https://shannonsmith.ca/event/ranchmans-800pm/
LOCATION:Ranchman’s Cook House & Dancehall Inc.\, 9615 Macleod Trail SW\, Calgary\, Alberta\, T2J 0P6\, Canada
END:VEVENT
BEGIN:VEVENT
DTSTART;TZID=America/Edmonton:20151231T200000
DTEND;TZID=America/Edmonton:20160101T010000
DTSTAMP:20260422T084601
CREATED:20150905T212303Z
LAST-MODIFIED:20150905T212625Z
UID:936-1451592000-1451610000@shannonsmith.ca
SUMMARY:Century Casino\, Calgary NYE!!!
DESCRIPTION:
URL:https://shannonsmith.ca/event/century-casino-calgary-nye/
LOCATION:Alberta
END:VEVENT
BEGIN:VEVENT
DTSTART;VALUE=DATE:20151212
DTEND;VALUE=DATE:20151214
DTSTAMP:20260422T084601
CREATED:20141229T021316Z
LAST-MODIFIED:20141229T021316Z
UID:781-1449889200-1449975599@shannonsmith.ca
SUMMARY:Private Christmas Function Edmonton
DESCRIPTION:
URL:https://shannonsmith.ca/event/private-christmas-function-edmonton/
LOCATION:Alberta
END:VEVENT
BEGIN:VEVENT
DTSTART;TZID=America/Edmonton:20151205T210000
DTEND;TZID=America/Edmonton:20151205T210000
DTSTAMP:20260422T084601
CREATED:20150827T033740Z
LAST-MODIFIED:20150827T033809Z
UID:933-1449349200-1449349200@shannonsmith.ca
SUMMARY:Neilburg\, SK  "A COUNTRY CHRISTMAS"
DESCRIPTION:
URL:https://shannonsmith.ca/event/neilburg-sk-country-christmas/
LOCATION:Alberta
END:VEVENT
BEGIN:VEVENT
DTSTART;TZID=America/Edmonton:20151127T210000
DTEND;TZID=America/Edmonton:20151127T210000
DTSTAMP:20260422T084601
CREATED:20150729T040739Z
LAST-MODIFIED:20150729T040857Z
UID:913-1448658000-1448658000@shannonsmith.ca
SUMMARY:The Westin Calgary (2:00pm load in)
DESCRIPTION:
URL:https://shannonsmith.ca/event/the-westin-calgary-200pm-loadin/
LOCATION:Alberta
END:VEVENT
BEGIN:VEVENT
DTSTART;TZID=America/Edmonton:20151120T210000
DTEND;TZID=America/Edmonton:20151120T210000
DTSTAMP:20260422T084601
CREATED:20150827T032901Z
LAST-MODIFIED:20150827T033027Z
UID:932-1448053200-1448053200@shannonsmith.ca
SUMMARY:Fairmont Banff Springs Hotel - Private Event Friday
DESCRIPTION:
URL:https://shannonsmith.ca/event/fairmont-banff-springs-hotel-private-event-friday/
LOCATION:Alberta
END:VEVENT
BEGIN:VEVENT
DTSTART;TZID=America/Edmonton:20151107T213000
DTEND;TZID=America/Edmonton:20151107T213000
DTSTAMP:20260422T084601
CREATED:20150718T213932Z
LAST-MODIFIED:20150809T161034Z
UID:907-1446931800-1446931800@shannonsmith.ca
SUMMARY:Wild Bill's Banff-Saturday
DESCRIPTION:
URL:https://shannonsmith.ca/event/wild-bills-banff-4/
LOCATION:Alberta
END:VEVENT
BEGIN:VEVENT
DTSTART;TZID=America/Edmonton:20151106T213000
DTEND;TZID=America/Edmonton:20151106T213000
DTSTAMP:20260422T084601
CREATED:20150718T213750Z
LAST-MODIFIED:20150809T155409Z
UID:906-1446845400-1446845400@shannonsmith.ca
SUMMARY:Wild Bill's Banff-Friday
DESCRIPTION:
URL:https://shannonsmith.ca/event/wild-bills-banff-3/
LOCATION:Alberta
END:VEVENT
BEGIN:VEVENT
DTSTART;VALUE=DATE:20151105
DTEND;VALUE=DATE:20151109
DTSTAMP:20260422T084601
CREATED:20141229T021250Z
LAST-MODIFIED:20150809T155329Z
UID:780-1446692400-1446951599@shannonsmith.ca
SUMMARY:Wild Bill's Banff - Thursday 9:30pm
DESCRIPTION:
URL:https://shannonsmith.ca/event/wild-bills-banff-930pm-6/
LOCATION:Wild Bill’s Legendary Saloon\, 201 Banff Ave\, Banff\, Alberta\, T1L 1C4\, Canada
END:VEVENT
BEGIN:VEVENT
DTSTART;TZID=America/Edmonton:20151024T213000
DTEND;TZID=America/Edmonton:20151024T213000
DTSTAMP:20260422T084601
CREATED:20150729T042521Z
LAST-MODIFIED:20150905T211922Z
UID:919-1445722200-1445722200@shannonsmith.ca
SUMMARY:Elbow River Casino 9:30
DESCRIPTION:
URL:https://shannonsmith.ca/event/tba-4/
LOCATION:Alberta
END:VEVENT
BEGIN:VEVENT
DTSTART;TZID=America/Edmonton:20151023T213000
DTEND;TZID=America/Edmonton:20151024T010000
DTSTAMP:20260422T084601
CREATED:20150317T074628Z
LAST-MODIFIED:20150905T211346Z
UID:823-1445635800-1445648400@shannonsmith.ca
SUMMARY:Elbow River Casino 9:30pm
DESCRIPTION:
URL:https://shannonsmith.ca/event/elbow-river-casino-4/
LOCATION:Elbow River Casino\, 218 18 Ave SE\, Calgary\, Alberta\, T2G 1L1\, Canada
END:VEVENT
BEGIN:VEVENT
DTSTART;TZID=America/Edmonton:20151017T200000
DTEND;TZID=America/Edmonton:20151017T200000
DTSTAMP:20260422T084601
CREATED:20150905T213001Z
LAST-MODIFIED:20150905T213151Z
UID:938-1445112000-1445112000@shannonsmith.ca
SUMMARY:Ranchman's\, Calgary Saturday 8:00pm
DESCRIPTION:
URL:https://shannonsmith.ca/event/ranchmans-calgary-saturday-800pm/
LOCATION:Alberta
END:VEVENT
BEGIN:VEVENT
DTSTART;TZID=America/Edmonton:20151016T210000
DTEND;TZID=America/Edmonton:20151016T210000
DTSTAMP:20260422T084601
CREATED:20150905T212854Z
LAST-MODIFIED:20150905T212854Z
UID:937-1445029200-1445029200@shannonsmith.ca
SUMMARY:Ranchman's\, Calgary Friday 9:00pm
DESCRIPTION:
URL:https://shannonsmith.ca/event/ranchmans-calgary-friday-900pm/
LOCATION:Alberta
END:VEVENT
BEGIN:VEVENT
DTSTART;VALUE=DATE:20151015
DTEND;VALUE=DATE:20151019
DTSTAMP:20260422T084601
CREATED:20141229T021139Z
LAST-MODIFIED:20150905T213248Z
UID:778-1444878000-1445137199@shannonsmith.ca
SUMMARY:Ranchman's\, Calgary Thursday  9:00pm
DESCRIPTION:
URL:https://shannonsmith.ca/event/ranchmans-calgary-9pm-3/
LOCATION:Ranchman’s Cook House & Dancehall Inc.\, 9615 Macleod Trail SW\, Calgary\, Alberta\, T2J 0P6\, Canada
END:VEVENT
BEGIN:VEVENT
DTSTART;TZID=America/Edmonton:20150918T210000
DTEND;TZID=America/Edmonton:20150919T010000
DTSTAMP:20260422T084601
CREATED:20150317T074508Z
LAST-MODIFIED:20150518T205420Z
UID:822-1442610000-1442624400@shannonsmith.ca
SUMMARY:Draft  Night Club- Edmonton Friday & Saturday
DESCRIPTION:
URL:https://shannonsmith.ca/event/murrietas-bar-and-grill/
LOCATION:Unnamed Venue\, Calgary\, Alberta\, T2P 7N2
END:VEVENT
BEGIN:VEVENT
DTSTART;TZID=America/Edmonton:20150911T220000
DTEND;TZID=America/Edmonton:20150911T220000
DTSTAMP:20260422T084601
CREATED:20150809T160531Z
LAST-MODIFIED:20150809T160828Z
UID:926-1442008800-1442008800@shannonsmith.ca
SUMMARY:Vintage Chophouse & Tavern- Friday/Saturday
DESCRIPTION:
URL:https://shannonsmith.ca/event/vintage-chophouse-tavern-fridaysaturday/
LOCATION:Alberta
END:VEVENT
BEGIN:VEVENT
DTSTART;TZID=America/Edmonton:20150829T200000
DTEND;TZID=America/Edmonton:20150829T200000
DTSTAMP:20260422T084601
CREATED:20150729T041755Z
LAST-MODIFIED:20150809T160113Z
UID:915-1440878400-1440878400@shannonsmith.ca
SUMMARY:Springbrook Multiplex: For Tickets & Info call 403-886-2724 -Saturday Only
DESCRIPTION:
URL:https://shannonsmith.ca/event/springbrook-multiplex-for-tickets-info-call-403-886-2724-saturday-only/
LOCATION:Springbrook Multiplex
END:VEVENT
BEGIN:VEVENT
DTSTART;TZID=America/Edmonton:20150816T150000
DTEND;TZID=America/Edmonton:20150816T154500
DTSTAMP:20260422T084601
CREATED:20150809T155200Z
LAST-MODIFIED:20150809T155200Z
UID:925-1439737200-1439739900@shannonsmith.ca
SUMMARY:Longstock Festival in Longview- Sunday Aug 16th @3:00pm
DESCRIPTION:
URL:https://shannonsmith.ca/event/longstock-festival-in-longview-sunday-aug-16th-300pm/
LOCATION:Alberta
END:VEVENT
BEGIN:VEVENT
DTSTART;TZID=America/Edmonton:20150815T213000
DTEND;TZID=America/Edmonton:20150815T213000
DTSTAMP:20260422T084601
CREATED:20150718T213440Z
LAST-MODIFIED:20150809T155536Z
UID:904-1439674200-1439674200@shannonsmith.ca
SUMMARY:Wild Bill's Banff -Saturday
DESCRIPTION:
URL:https://shannonsmith.ca/event/wild-bills-banff-2/
LOCATION:Alberta
END:VEVENT
BEGIN:VEVENT
DTSTART;TZID=America/Edmonton:20150814T213000
DTEND;TZID=America/Edmonton:20150814T213000
DTSTAMP:20260422T084601
CREATED:20150718T213318Z
LAST-MODIFIED:20150809T155522Z
UID:903-1439587800-1439587800@shannonsmith.ca
SUMMARY:Wild Bill's Banff - Friday
DESCRIPTION:
URL:https://shannonsmith.ca/event/wild-bills-banff/
LOCATION:Alberta
END:VEVENT
BEGIN:VEVENT
DTSTART;VALUE=DATE:20150813
DTEND;VALUE=DATE:20150817
DTSTAMP:20260422T084601
CREATED:20141229T021105Z
LAST-MODIFIED:20150809T155451Z
UID:777-1439434800-1439693999@shannonsmith.ca
SUMMARY:Wild Bill's Banff - Thursday @9:30pm
DESCRIPTION:
URL:https://shannonsmith.ca/event/wild-bills-banff-930pm-5/
LOCATION:Wild Bill’s Legendary Saloon\, 201 Banff Ave\, Banff\, Alberta\, T1L 1C4\, Canada
END:VEVENT
BEGIN:VEVENT
DTSTART;TZID=America/Edmonton:20150808T193000
DTEND;TZID=America/Edmonton:20150808T233000
DTSTAMP:20260422T084601
CREATED:20150413T023924Z
LAST-MODIFIED:20150718T212923Z
UID:845-1439062200-1439076600@shannonsmith.ca
SUMMARY:Silver Springs Golf & Country Club- Private Party
DESCRIPTION:
URL:https://shannonsmith.ca/event/tentative-booking/
LOCATION:Alberta
END:VEVENT
BEGIN:VEVENT
DTSTART;TZID=America/Edmonton:20150807T193000
DTEND;TZID=America/Edmonton:20150807T220000
DTSTAMP:20260422T084601
CREATED:20150413T025359Z
LAST-MODIFIED:20150413T025359Z
UID:849-1438975800-1438984800@shannonsmith.ca
SUMMARY:Pine Lake
DESCRIPTION:
URL:https://shannonsmith.ca/event/pine-lake/
LOCATION:Alberta
END:VEVENT
BEGIN:VEVENT
DTSTART;VALUE=DATE:20150724
DTEND;VALUE=DATE:20150726
DTSTAMP:20260422T084601
CREATED:20150204T230759Z
LAST-MODIFIED:20150718T214142Z
UID:799-1437706800-1437793199@shannonsmith.ca
SUMMARY:Vermilion Fair Grandstand Show 8:30 PM
DESCRIPTION:
URL:https://shannonsmith.ca/event/vermillion-fair-grandstand-show/
LOCATION:Unnamed Venue\, Vermillion\, Alberta\, Canada
END:VEVENT
END:VCALENDAR