BEGIN:VCALENDAR
VERSION:2.0
PRODID:-//Shannon Smith - ECPv6.15.20//NONSGML v1.0//EN
CALSCALE:GREGORIAN
METHOD:PUBLISH
X-WR-CALNAME:Shannon Smith
X-ORIGINAL-URL:https://shannonsmith.ca
X-WR-CALDESC:Events for Shannon Smith
REFRESH-INTERVAL;VALUE=DURATION:PT1H
X-Robots-Tag:noindex
X-PUBLISHED-TTL:PT1H
BEGIN:VTIMEZONE
TZID:America/Edmonton
BEGIN:DAYLIGHT
TZOFFSETFROM:-0700
TZOFFSETTO:-0600
TZNAME:MDT
DTSTART:20140309T090000
END:DAYLIGHT
BEGIN:STANDARD
TZOFFSETFROM:-0600
TZOFFSETTO:-0700
TZNAME:MST
DTSTART:20141102T080000
END:STANDARD
BEGIN:DAYLIGHT
TZOFFSETFROM:-0700
TZOFFSETTO:-0600
TZNAME:MDT
DTSTART:20150308T090000
END:DAYLIGHT
BEGIN:STANDARD
TZOFFSETFROM:-0600
TZOFFSETTO:-0700
TZNAME:MST
DTSTART:20151101T080000
END:STANDARD
BEGIN:DAYLIGHT
TZOFFSETFROM:-0700
TZOFFSETTO:-0600
TZNAME:MDT
DTSTART:20160313T090000
END:DAYLIGHT
BEGIN:STANDARD
TZOFFSETFROM:-0600
TZOFFSETTO:-0700
TZNAME:MST
DTSTART:20161106T080000
END:STANDARD
BEGIN:DAYLIGHT
TZOFFSETFROM:-0700
TZOFFSETTO:-0600
TZNAME:MDT
DTSTART:20170312T090000
END:DAYLIGHT
BEGIN:STANDARD
TZOFFSETFROM:-0600
TZOFFSETTO:-0700
TZNAME:MST
DTSTART:20171105T080000
END:STANDARD
END:VTIMEZONE
BEGIN:VEVENT
DTSTART;TZID=America/Edmonton:20160710T070000
DTEND;TZID=America/Edmonton:20160710T100000
DTSTAMP:20260422T053616
CREATED:20160603T225757Z
LAST-MODIFIED:20160603T225757Z
UID:1120-1468134000-1468144800@shannonsmith.ca
SUMMARY:Private Event (Hays Breakfast) 7AM-10AM
DESCRIPTION:
URL:https://shannonsmith.ca/event/private-event-hays-breakfast-7am-10am/
END:VEVENT
BEGIN:VEVENT
DTSTART;TZID=America/Edmonton:20160708T064500
DTEND;TZID=America/Edmonton:20160708T101500
DTSTAMP:20260422T053616
CREATED:20160603T225456Z
LAST-MODIFIED:20160623T065807Z
UID:1119-1467960300-1467972900@shannonsmith.ca
SUMMARY:Private Event 6:45AM-10:15AM Breakast
DESCRIPTION:
URL:https://shannonsmith.ca/event/private-event-7am-1030am-breakast/
END:VEVENT
BEGIN:VEVENT
DTSTART;TZID=America/Edmonton:20160707T150000
DTEND;TZID=America/Edmonton:20160707T200000
DTSTAMP:20260422T053616
CREATED:20160603T224959Z
LAST-MODIFIED:20160618T172253Z
UID:1117-1467903600-1467921600@shannonsmith.ca
SUMMARY:Private Event 3:00PM-8:00PM
DESCRIPTION:
URL:https://shannonsmith.ca/event/private-event-3pm-8pm/
END:VEVENT
BEGIN:VEVENT
DTSTART;TZID=America/Edmonton:20160701T210000
DTEND;TZID=America/Edmonton:20160701T223000
DTSTAMP:20260422T053616
CREATED:20160314T043813Z
LAST-MODIFIED:20160314T043813Z
UID:1068-1467406800-1467412200@shannonsmith.ca
SUMMARY:Canada Day Concert\, Lake Louise 9:00PM - 10:30PM
DESCRIPTION:
URL:https://shannonsmith.ca/event/canada-day-concert-lake-louise-900pm-1030pm/
END:VEVENT
BEGIN:VEVENT
DTSTART;TZID=America/Edmonton:20160604T213000
DTEND;TZID=America/Edmonton:20160604T213000
DTSTAMP:20260422T053616
CREATED:20160111T053339Z
LAST-MODIFIED:20160111T053339Z
UID:995-1465075800-1465075800@shannonsmith.ca
SUMMARY:County Line Saloon 9:30pm
DESCRIPTION:
URL:https://shannonsmith.ca/event/county-line-saloon-930pm-6/
LOCATION:County Line Saloon\, 1825 50th Street SE\, Calgary\, Alberta\, T2A 0V8\, Canada
END:VEVENT
BEGIN:VEVENT
DTSTART;TZID=America/Edmonton:20160603T213000
DTEND;TZID=America/Edmonton:20160603T213000
DTSTAMP:20260422T053616
CREATED:20160111T053226Z
LAST-MODIFIED:20160111T053226Z
UID:994-1464989400-1464989400@shannonsmith.ca
SUMMARY:County line Saloon 9:30pm
DESCRIPTION:
URL:https://shannonsmith.ca/event/county-line-saloon-930pm-5/
LOCATION:County Line Saloon\, 1825 50th Street SE\, Calgary\, Alberta\, T2A 0V8\, Canada
END:VEVENT
BEGIN:VEVENT
DTSTART;TZID=America/Edmonton:20160528T210000
DTEND;TZID=America/Edmonton:20160528T210000
DTSTAMP:20260422T053616
CREATED:20160111T052957Z
LAST-MODIFIED:20160111T053056Z
UID:993-1464469200-1464469200@shannonsmith.ca
SUMMARY:Casino Edmonton 9:00
DESCRIPTION:
URL:https://shannonsmith.ca/event/casino-edmonton-900/
LOCATION:Casino Edmonton\, 7055 Argyll Rd.\, Edmonton\, Alberta\, T6C 4A5\, Canada
END:VEVENT
BEGIN:VEVENT
DTSTART;TZID=America/Edmonton:20160527T210000
DTEND;TZID=America/Edmonton:20160527T210000
DTSTAMP:20260422T053616
CREATED:20160111T052843Z
LAST-MODIFIED:20160111T052843Z
UID:992-1464382800-1464382800@shannonsmith.ca
SUMMARY:Casino Edmonton 9:30pm
DESCRIPTION:
URL:https://shannonsmith.ca/event/casino-edmonton-930pm/
LOCATION:Casino Edmonton\, 7055 Argyll Rd.\, Edmonton\, Alberta\, T6C 4A5\, Canada
END:VEVENT
BEGIN:VEVENT
DTSTART;TZID=America/Edmonton:20160521T213000
DTEND;TZID=America/Edmonton:20160521T213000
DTSTAMP:20260422T053616
CREATED:20160111T052058Z
LAST-MODIFIED:20160111T052714Z
UID:991-1463866200-1463866200@shannonsmith.ca
SUMMARY:Wild Bill's\, Banff 9:30pm
DESCRIPTION:
URL:https://shannonsmith.ca/event/wild-bills-banff-930pm-8/
LOCATION:Wild Bill’s Legendary Saloon\, 201 Banff Ave\, Banff\, Alberta\, T1L 1C4\, Canada
END:VEVENT
BEGIN:VEVENT
DTSTART;TZID=America/Edmonton:20160520T213000
DTEND;TZID=America/Edmonton:20160520T213000
DTSTAMP:20260422T053616
CREATED:20160111T051954Z
LAST-MODIFIED:20160111T051954Z
UID:990-1463779800-1463779800@shannonsmith.ca
SUMMARY:Wild Bill's\, Banff 9:30pm
DESCRIPTION:
URL:https://shannonsmith.ca/event/wild-bills-banff-930pm-7/
LOCATION:Wild Bill’s Legendary Saloon\, 201 Banff Ave\, Banff\, Alberta\, T1L 1C4\, Canada
END:VEVENT
BEGIN:VEVENT
DTSTART;TZID=America/Edmonton:20160519T213000
DTEND;TZID=America/Edmonton:20160519T213000
DTSTAMP:20260422T053616
CREATED:20160111T051831Z
LAST-MODIFIED:20160111T051831Z
UID:989-1463693400-1463693400@shannonsmith.ca
SUMMARY:Wild Bill's\, Banff 9:30pm
DESCRIPTION:
URL:https://shannonsmith.ca/event/wild-bills-banff-930pm-2/
LOCATION:Wild Bill’s Legendary Saloon\, 201 Banff Ave\, Banff\, Alberta\, T1L 1C4\, Canada
END:VEVENT
BEGIN:VEVENT
DTSTART;TZID=America/Edmonton:20160416T210000
DTEND;TZID=America/Edmonton:20160416T210000
DTSTAMP:20260422T053616
CREATED:20160111T051432Z
LAST-MODIFIED:20160229T011900Z
UID:986-1460840400-1460840400@shannonsmith.ca
SUMMARY:Yellowhead Casino\, Edmonton 9:00pm
DESCRIPTION:
URL:https://shannonsmith.ca/event/yellowhead-casino-edmonton-900pm-2/
LOCATION:Casino Yellowhead\, 12464 153 St NW\, Edmonton\, Alberta\, T5V 1S5\, Canada
END:VEVENT
BEGIN:VEVENT
DTSTART;TZID=America/Edmonton:20160415T210000
DTEND;TZID=America/Edmonton:20160415T210000
DTSTAMP:20260422T053616
CREATED:20160111T051321Z
LAST-MODIFIED:20160229T011721Z
UID:985-1460754000-1460754000@shannonsmith.ca
SUMMARY:Yellowhead Casino\, Edmonton 9:00pm
DESCRIPTION:
URL:https://shannonsmith.ca/event/yellowhead-casino-edmonton-900pm/
LOCATION:Casino Yellowhead\, 12464 153 St NW\, Edmonton\, Alberta\, T5V 1S5\, Canada
END:VEVENT
BEGIN:VEVENT
DTSTART;TZID=America/Edmonton:20160409T203000
DTEND;TZID=America/Edmonton:20160409T203000
DTSTAMP:20260422T053616
CREATED:20160111T051658Z
LAST-MODIFIED:20160111T051658Z
UID:988-1460233800-1460233800@shannonsmith.ca
SUMMARY:Ranchman's 8:30pm
DESCRIPTION:
URL:https://shannonsmith.ca/event/ranchmans-830pm/
LOCATION:Ranchman’s Cook House & Dancehall Inc.\, 9615 Macleod Trail SW\, Calgary\, Alberta\, T2J 0P6\, Canada
END:VEVENT
BEGIN:VEVENT
DTSTART;TZID=America/Edmonton:20160408T200000
DTEND;TZID=America/Edmonton:20160408T200000
DTSTAMP:20260422T053616
CREATED:20160111T051553Z
LAST-MODIFIED:20160111T051553Z
UID:987-1460145600-1460145600@shannonsmith.ca
SUMMARY:Ranchman's 8:00pm
DESCRIPTION:
URL:https://shannonsmith.ca/event/ranchmans-800pm-2/
LOCATION:Ranchman’s Cook House & Dancehall Inc.\, 9615 Macleod Trail SW\, Calgary\, Alberta\, T2J 0P6\, Canada
END:VEVENT
BEGIN:VEVENT
DTSTART;TZID=America/Edmonton:20160402T200000
DTEND;TZID=America/Edmonton:20160402T223000
DTSTAMP:20260422T053616
CREATED:20160314T042615Z
LAST-MODIFIED:20160314T042630Z
UID:1066-1459627200-1459636200@shannonsmith.ca
SUMMARY:Century Casino\, Calgary (Saturday only)
DESCRIPTION:
URL:https://shannonsmith.ca/event/century-casino-calgary-saturday-only/
END:VEVENT
BEGIN:VEVENT
DTSTART;TZID=America/Edmonton:20160319T213000
DTEND;TZID=America/Edmonton:20160319T213000
DTSTAMP:20260422T053616
CREATED:20160111T051131Z
LAST-MODIFIED:20160111T051131Z
UID:984-1458423000-1458423000@shannonsmith.ca
SUMMARY:County Line Saloon 9:30pm
DESCRIPTION:
URL:https://shannonsmith.ca/event/county-line-saloon-930pm-4/
LOCATION:County Line Saloon\, 1825 50th Street SE\, Calgary\, Alberta\, T2A 0V8\, Canada
END:VEVENT
BEGIN:VEVENT
DTSTART;TZID=America/Edmonton:20160318T213000
DTEND;TZID=America/Edmonton:20160318T213000
DTSTAMP:20260422T053616
CREATED:20160111T051023Z
LAST-MODIFIED:20160111T051023Z
UID:983-1458336600-1458336600@shannonsmith.ca
SUMMARY:County Line Saloon 9:30pm
DESCRIPTION:
URL:https://shannonsmith.ca/event/county-line-saloon-930pm-3/
LOCATION:County Line Saloon\, 1825 50th Street SE\, Calgary\, Alberta\, T2A 0V8\, Canada
END:VEVENT
BEGIN:VEVENT
DTSTART;TZID=America/Edmonton:20160312T220000
DTEND;TZID=America/Edmonton:20160312T220000
DTSTAMP:20260422T053616
CREATED:20160120T061341Z
LAST-MODIFIED:20160120T061540Z
UID:1039-1457820000-1457820000@shannonsmith.ca
SUMMARY:Boomers Pub\, Rocky Mountain House\, AB
DESCRIPTION:
URL:https://shannonsmith.ca/event/boomers-rocky-mountain-house-ab/
END:VEVENT
BEGIN:VEVENT
DTSTART;TZID=America/Edmonton:20160311T220000
DTEND;TZID=America/Edmonton:20160311T220000
DTSTAMP:20260422T053616
CREATED:20160120T061238Z
LAST-MODIFIED:20160120T061238Z
UID:1038-1457733600-1457733600@shannonsmith.ca
SUMMARY:Boomers Pub\, Rocky Mountain House\, AB
DESCRIPTION:
URL:https://shannonsmith.ca/event/boomers-pub-rocky-mountain-house-ab/
END:VEVENT
BEGIN:VEVENT
DTSTART;TZID=America/Edmonton:20160227T213000
DTEND;TZID=America/Edmonton:20160227T213000
DTSTAMP:20260422T053616
CREATED:20160111T050820Z
LAST-MODIFIED:20160111T050820Z
UID:982-1456608600-1456608600@shannonsmith.ca
SUMMARY:Elbow River Casino 9:30pm
DESCRIPTION:
URL:https://shannonsmith.ca/event/elbow-river-casino-930pm-4/
LOCATION:Elbow River Casino\, 218 18 Ave SE\, Calgary\, Alberta\, T2G 1L1\, Canada
END:VEVENT
BEGIN:VEVENT
DTSTART;TZID=America/Edmonton:20160226T213000
DTEND;TZID=America/Edmonton:20160226T213000
DTSTAMP:20260422T053616
CREATED:20160111T050652Z
LAST-MODIFIED:20160111T050652Z
UID:981-1456522200-1456522200@shannonsmith.ca
SUMMARY:Elbow River Casino 9:30pm
DESCRIPTION:
URL:https://shannonsmith.ca/event/elbow-river-casino-930pm-3/
LOCATION:Elbow River Casino\, 218 18 Ave SE\, Calgary\, Alberta\, T2G 1L1\, Canada
END:VEVENT
BEGIN:VEVENT
DTSTART;TZID=America/Edmonton:20160205T093000
DTEND;TZID=America/Edmonton:20160205T093000
DTSTAMP:20260422T053616
CREATED:20160111T050449Z
LAST-MODIFIED:20160111T061132Z
UID:980-1454664600-1454664600@shannonsmith.ca
SUMMARY:Wild Bill's\, Banff (Friday)
DESCRIPTION:
URL:https://shannonsmith.ca/event/wild-bills-banff-friday/
LOCATION:Wild Bill’s Legendary Saloon\, 201 Banff Ave\, Banff\, Alberta\, T1L 1C4\, Canada
END:VEVENT
BEGIN:VEVENT
DTSTART;TZID=America/Edmonton:20160204T213000
DTEND;TZID=America/Edmonton:20160204T213000
DTSTAMP:20260422T053616
CREATED:20160111T050339Z
LAST-MODIFIED:20160111T050339Z
UID:979-1454621400-1454621400@shannonsmith.ca
SUMMARY:Wild Bill's\, Banff (Thursday)
DESCRIPTION:
URL:https://shannonsmith.ca/event/wild-bills-banff-thursday/
LOCATION:Wild Bill’s Legendary Saloon\, 201 Banff Ave\, Banff\, Alberta\, T1L 1C4\, Canada
END:VEVENT
BEGIN:VEVENT
DTSTART;TZID=America/Edmonton:20160203T213000
DTEND;TZID=America/Edmonton:20160203T213000
DTSTAMP:20260422T053616
CREATED:20160111T050033Z
LAST-MODIFIED:20160111T050033Z
UID:978-1454535000-1454535000@shannonsmith.ca
SUMMARY:Wild Bill's\, Banff (Wednesday)
DESCRIPTION:
URL:https://shannonsmith.ca/event/wild-bills-banff-wednesday/
LOCATION:Wild Bill’s Legendary Saloon\, 201 Banff Ave\, Banff\, Alberta\, T1L 1C4\, Canada
END:VEVENT
BEGIN:VEVENT
DTSTART;TZID=America/Edmonton:20160130T200000
DTEND;TZID=America/Edmonton:20160130T200000
DTSTAMP:20260422T053616
CREATED:20160111T045734Z
LAST-MODIFIED:20160111T045834Z
UID:977-1454184000-1454184000@shannonsmith.ca
SUMMARY:Ranchman's 8:30pm
DESCRIPTION:
URL:https://shannonsmith.ca/event/ranchmans-830/
LOCATION:Ranchman’s Cook House & Dancehall Inc.\, 9615 Macleod Trail SW\, Calgary\, Alberta\, T2J 0P6\, Canada
END:VEVENT
BEGIN:VEVENT
DTSTART;TZID=America/Edmonton:20160129T200000
DTEND;TZID=America/Edmonton:20160129T200000
DTSTAMP:20260422T053616
CREATED:20160111T045548Z
LAST-MODIFIED:20160111T045548Z
UID:976-1454097600-1454097600@shannonsmith.ca
SUMMARY:Ranchman's 8:00pm
DESCRIPTION:
URL:https://shannonsmith.ca/event/ranchmans-800pm/
LOCATION:Ranchman’s Cook House & Dancehall Inc.\, 9615 Macleod Trail SW\, Calgary\, Alberta\, T2J 0P6\, Canada
END:VEVENT
BEGIN:VEVENT
DTSTART;TZID=America/Edmonton:20151231T200000
DTEND;TZID=America/Edmonton:20160101T010000
DTSTAMP:20260422T053616
CREATED:20150905T212303Z
LAST-MODIFIED:20150905T212625Z
UID:936-1451592000-1451610000@shannonsmith.ca
SUMMARY:Century Casino\, Calgary NYE!!!
DESCRIPTION:
URL:https://shannonsmith.ca/event/century-casino-calgary-nye/
END:VEVENT
BEGIN:VEVENT
DTSTART;VALUE=DATE:20151212
DTEND;VALUE=DATE:20151214
DTSTAMP:20260422T053616
CREATED:20141229T021316Z
LAST-MODIFIED:20141229T021316Z
UID:781-1449889200-1449975599@shannonsmith.ca
SUMMARY:Private Christmas Function Edmonton
DESCRIPTION:
URL:https://shannonsmith.ca/event/private-christmas-function-edmonton/
END:VEVENT
BEGIN:VEVENT
DTSTART;TZID=America/Edmonton:20151205T210000
DTEND;TZID=America/Edmonton:20151205T210000
DTSTAMP:20260422T053616
CREATED:20150827T033740Z
LAST-MODIFIED:20150827T033809Z
UID:933-1449349200-1449349200@shannonsmith.ca
SUMMARY:Neilburg\, SK  "A COUNTRY CHRISTMAS"
DESCRIPTION:
URL:https://shannonsmith.ca/event/neilburg-sk-country-christmas/
END:VEVENT
END:VCALENDAR