BEGIN:VCALENDAR
VERSION:2.0
PRODID:-//Shannon Smith - ECPv6.15.20//NONSGML v1.0//EN
CALSCALE:GREGORIAN
METHOD:PUBLISH
X-ORIGINAL-URL:https://shannonsmith.ca
X-WR-CALDESC:Events for Shannon Smith
REFRESH-INTERVAL;VALUE=DURATION:PT1H
X-Robots-Tag:noindex
X-PUBLISHED-TTL:PT1H
BEGIN:VTIMEZONE
TZID:America/Edmonton
BEGIN:DAYLIGHT
TZOFFSETFROM:-0700
TZOFFSETTO:-0600
TZNAME:MDT
DTSTART:20150308T090000
END:DAYLIGHT
BEGIN:STANDARD
TZOFFSETFROM:-0600
TZOFFSETTO:-0700
TZNAME:MST
DTSTART:20151101T080000
END:STANDARD
BEGIN:DAYLIGHT
TZOFFSETFROM:-0700
TZOFFSETTO:-0600
TZNAME:MDT
DTSTART:20160313T090000
END:DAYLIGHT
BEGIN:STANDARD
TZOFFSETFROM:-0600
TZOFFSETTO:-0700
TZNAME:MST
DTSTART:20161106T080000
END:STANDARD
BEGIN:DAYLIGHT
TZOFFSETFROM:-0700
TZOFFSETTO:-0600
TZNAME:MDT
DTSTART:20170312T090000
END:DAYLIGHT
BEGIN:STANDARD
TZOFFSETFROM:-0600
TZOFFSETTO:-0700
TZNAME:MST
DTSTART:20171105T080000
END:STANDARD
BEGIN:DAYLIGHT
TZOFFSETFROM:-0700
TZOFFSETTO:-0600
TZNAME:MDT
DTSTART:20180311T090000
END:DAYLIGHT
BEGIN:STANDARD
TZOFFSETFROM:-0600
TZOFFSETTO:-0700
TZNAME:MST
DTSTART:20181104T080000
END:STANDARD
END:VTIMEZONE
BEGIN:VEVENT
DTSTART;TZID=America/Edmonton:20170609T214500
DTEND;TZID=America/Edmonton:20170609T214500
DTSTAMP:20260419T232206
CREATED:20170305T002806Z
LAST-MODIFIED:20170305T002806Z
UID:1458-1497044700-1497044700@shannonsmith.ca
SUMMARY:MURRIETA'S BAR & GRILL
DESCRIPTION:
URL:https://shannonsmith.ca/event/murrietas-bar-grill/
END:VEVENT
BEGIN:VEVENT
DTSTART;TZID=America/Edmonton:20170603T210000
DTEND;TZID=America/Edmonton:20170603T230000
DTSTAMP:20260419T232206
CREATED:20170106T234405Z
LAST-MODIFIED:20170106T235059Z
UID:1319-1496523600-1496530800@shannonsmith.ca
SUMMARY:SPECIAL EVENT "LIKE SHANIA"- BLACKJACKS ROADHOUSE\, NISKU\, AB
DESCRIPTION:
URL:https://shannonsmith.ca/event/special-event-like-shania-blackjacks-roadhouse-nisku-ab/
END:VEVENT
BEGIN:VEVENT
DTSTART;TZID=America/Edmonton:20170520T210000
DTEND;TZID=America/Edmonton:20170520T210000
DTSTAMP:20260419T232206
CREATED:20170106T232855Z
LAST-MODIFIED:20170106T232855Z
UID:1315-1495314000-1495314000@shannonsmith.ca
SUMMARY:BIG AL'S\, CALGARY
DESCRIPTION:
URL:https://shannonsmith.ca/event/big-als-calgary-4/
END:VEVENT
BEGIN:VEVENT
DTSTART;TZID=America/Edmonton:20170519T210000
DTEND;TZID=America/Edmonton:20170519T210000
DTSTAMP:20260419T232206
CREATED:20170106T232508Z
LAST-MODIFIED:20170106T232508Z
UID:1313-1495227600-1495227600@shannonsmith.ca
SUMMARY:BIG AL'S\, CALGARY
DESCRIPTION:
URL:https://shannonsmith.ca/event/big-als-calgary-3/
END:VEVENT
BEGIN:VEVENT
DTSTART;TZID=America/Edmonton:20170506T213000
DTEND;TZID=America/Edmonton:20170506T213000
DTSTAMP:20260419T232206
CREATED:20170106T232414Z
LAST-MODIFIED:20170106T232414Z
UID:1311-1494106200-1494106200@shannonsmith.ca
SUMMARY:ELBOW RIVER CASINO\, CALGARY
DESCRIPTION:
URL:https://shannonsmith.ca/event/elbow-river-casino-calgary-2/
END:VEVENT
BEGIN:VEVENT
DTSTART;TZID=America/Edmonton:20170505T213000
DTEND;TZID=America/Edmonton:20170505T213000
DTSTAMP:20260419T232206
CREATED:20170106T232318Z
LAST-MODIFIED:20170106T232318Z
UID:1309-1494019800-1494019800@shannonsmith.ca
SUMMARY:ELBOW RIVER CASINO\, CALGARY
DESCRIPTION:
URL:https://shannonsmith.ca/event/elbow-river-casino-calgary/
END:VEVENT
BEGIN:VEVENT
DTSTART;TZID=America/Edmonton:20170422T213000
DTEND;TZID=America/Edmonton:20170422T213000
DTSTAMP:20260419T232206
CREATED:20170106T231927Z
LAST-MODIFIED:20170106T231927Z
UID:1307-1492896600-1492896600@shannonsmith.ca
SUMMARY:COUNTY LINE SALOON\, CALGARY
DESCRIPTION:
URL:https://shannonsmith.ca/event/county-line-saloon-calgary-3/
END:VEVENT
BEGIN:VEVENT
DTSTART;TZID=America/Edmonton:20170421T213000
DTEND;TZID=America/Edmonton:20170421T213000
DTSTAMP:20260419T232206
CREATED:20170106T231744Z
LAST-MODIFIED:20170106T231833Z
UID:1304-1492810200-1492810200@shannonsmith.ca
SUMMARY:COUNTY LINE SALOON\, CALGARY
DESCRIPTION:
URL:https://shannonsmith.ca/event/county-line-saloon-5/
END:VEVENT
BEGIN:VEVENT
DTSTART;TZID=America/Edmonton:20170407T210000
DTEND;TZID=America/Edmonton:20170407T210000
DTSTAMP:20260419T232206
CREATED:20170116T041439Z
LAST-MODIFIED:20170401T190216Z
UID:1361-1491598800-1491598800@shannonsmith.ca
SUMMARY:CASINO CALGARY\, Calgary (Friday Only 9:00pm- 1:00am) 1420 Meridian Rd\, NE
DESCRIPTION:
URL:https://shannonsmith.ca/event/casino-calgary-calgary-saturday-only/
END:VEVENT
BEGIN:VEVENT
DTSTART;TZID=America/Edmonton:20170225T210000
DTEND;TZID=America/Edmonton:20170225T210000
DTSTAMP:20260419T232206
CREATED:20170106T231216Z
LAST-MODIFIED:20170106T231216Z
UID:1302-1488056400-1488056400@shannonsmith.ca
SUMMARY:CASINO EDMONTON\, EDMONTON
DESCRIPTION:
URL:https://shannonsmith.ca/event/casino-edmonton-edmonton-2/
END:VEVENT
BEGIN:VEVENT
DTSTART;TZID=America/Edmonton:20170224T210000
DTEND;TZID=America/Edmonton:20170224T210000
DTSTAMP:20260419T232206
CREATED:20170106T231124Z
LAST-MODIFIED:20170106T231124Z
UID:1300-1487970000-1487970000@shannonsmith.ca
SUMMARY:CASINO EDMONTON\, EDMONTON
DESCRIPTION:
URL:https://shannonsmith.ca/event/casino-edmonton-edmonton/
END:VEVENT
BEGIN:VEVENT
DTSTART;TZID=America/Edmonton:20170218T213000
DTEND;TZID=America/Edmonton:20170218T213000
DTSTAMP:20260419T232206
CREATED:20170106T231016Z
LAST-MODIFIED:20170106T231016Z
UID:1298-1487453400-1487453400@shannonsmith.ca
SUMMARY:COUNTY LINE SALOON\, CALGARY
DESCRIPTION:
URL:https://shannonsmith.ca/event/county-line-saloon-calgary-2/
END:VEVENT
BEGIN:VEVENT
DTSTART;TZID=America/Edmonton:20170217T213000
DTEND;TZID=America/Edmonton:20170217T213000
DTSTAMP:20260419T232206
CREATED:20170106T230920Z
LAST-MODIFIED:20170106T230920Z
UID:1296-1487367000-1487367000@shannonsmith.ca
SUMMARY:COUNTY LINE SALOON\, CALGARY
DESCRIPTION:
URL:https://shannonsmith.ca/event/county-line-saloon-calgary/
END:VEVENT
BEGIN:VEVENT
DTSTART;TZID=America/Edmonton:20170211T213000
DTEND;TZID=America/Edmonton:20170211T213000
DTSTAMP:20260419T232206
CREATED:20170106T230116Z
LAST-MODIFIED:20170106T230223Z
UID:1294-1486848600-1486848600@shannonsmith.ca
SUMMARY:WILD BILL'S LEGENDARY SALOON\, BANFF
DESCRIPTION:
URL:https://shannonsmith.ca/event/wild-bills-legendary-saloon-banff-2/
END:VEVENT
BEGIN:VEVENT
DTSTART;TZID=America/Edmonton:20170210T213000
DTEND;TZID=America/Edmonton:20170210T213000
DTSTAMP:20260419T232206
CREATED:20170106T225738Z
LAST-MODIFIED:20170106T225738Z
UID:1292-1486762200-1486762200@shannonsmith.ca
SUMMARY:WILD BILL'S LEGENDARY SALOON\, BANFF
DESCRIPTION:
URL:https://shannonsmith.ca/event/wild-bills-legendary-saloon-banff/
END:VEVENT
BEGIN:VEVENT
DTSTART;TZID=America/Edmonton:20170209T213000
DTEND;TZID=America/Edmonton:20170209T213000
DTSTAMP:20260419T232206
CREATED:20170106T225555Z
LAST-MODIFIED:20170106T225555Z
UID:1290-1486675800-1486675800@shannonsmith.ca
SUMMARY:WILD BILL'S LEGENDARY SALOON\, BANFF (THURSDAY)
DESCRIPTION:
URL:https://shannonsmith.ca/event/wild-bills-legendary-saloon-banff-thursday/
END:VEVENT
BEGIN:VEVENT
DTSTART;TZID=America/Edmonton:20170128T220000
DTEND;TZID=America/Edmonton:20170128T220000
DTSTAMP:20260419T232206
CREATED:20170106T224812Z
LAST-MODIFIED:20170106T224812Z
UID:1285-1485640800-1485640800@shannonsmith.ca
SUMMARY:VINTAGE CHOPHOUSE\, Calgary (10pm-1am)
DESCRIPTION:
URL:https://shannonsmith.ca/event/vintage-chophouse-calgary-10pm-1am-2/
END:VEVENT
BEGIN:VEVENT
DTSTART;TZID=America/Edmonton:20170127T220000
DTEND;TZID=America/Edmonton:20170127T220000
DTSTAMP:20260419T232206
CREATED:20170106T224654Z
LAST-MODIFIED:20170106T224654Z
UID:1283-1485554400-1485554400@shannonsmith.ca
SUMMARY:VINTAGE CHOPHOUSE\, Calgary (10pm-1am)
DESCRIPTION:
URL:https://shannonsmith.ca/event/vintage-chophouse-calgary-10pm-1am/
END:VEVENT
BEGIN:VEVENT
DTSTART;TZID=America/Edmonton:20170121T214500
DTEND;TZID=America/Edmonton:20170121T214500
DTSTAMP:20260419T232206
CREATED:20170106T224445Z
LAST-MODIFIED:20170106T224445Z
UID:1281-1485035100-1485035100@shannonsmith.ca
SUMMARY:MURRIETA'S BAR & GRILL\, Calgary
DESCRIPTION:
URL:https://shannonsmith.ca/event/murrietas-bar-grill-calgary-2/
END:VEVENT
BEGIN:VEVENT
DTSTART;TZID=America/Edmonton:20170120T214500
DTEND;TZID=America/Edmonton:20170120T214500
DTSTAMP:20260419T232206
CREATED:20170106T224325Z
LAST-MODIFIED:20170106T224325Z
UID:1279-1484948700-1484948700@shannonsmith.ca
SUMMARY:MURRIETA'S BAR & GRILL\, Calgary
DESCRIPTION:
URL:https://shannonsmith.ca/event/murrietas-bar-grill-calgary/
END:VEVENT
BEGIN:VEVENT
DTSTART;TZID=America/Edmonton:20170114T210000
DTEND;TZID=America/Edmonton:20170114T210000
DTSTAMP:20260419T232206
CREATED:20170106T223914Z
LAST-MODIFIED:20170106T223914Z
UID:1277-1484427600-1484427600@shannonsmith.ca
SUMMARY:BIG AL'S\, Calgary
DESCRIPTION:
URL:https://shannonsmith.ca/event/big-als-calgary-2/
END:VEVENT
BEGIN:VEVENT
DTSTART;TZID=America/Edmonton:20170113T210000
DTEND;TZID=America/Edmonton:20170113T210000
DTSTAMP:20260419T232206
CREATED:20170106T223809Z
LAST-MODIFIED:20170106T223809Z
UID:1275-1484341200-1484341200@shannonsmith.ca
SUMMARY:BIG AL'S\, Calgary
DESCRIPTION:
URL:https://shannonsmith.ca/event/big-als-calgary/
END:VEVENT
BEGIN:VEVENT
DTSTART;TZID=America/Edmonton:20161217T220000
DTEND;TZID=America/Edmonton:20161217T220000
DTSTAMP:20260419T232206
CREATED:20160703T024327Z
LAST-MODIFIED:20160921T035413Z
UID:1169-1482012000-1482012000@shannonsmith.ca
SUMMARY:Vintage Chophouse 10:00pm-1:00am
DESCRIPTION:
URL:https://shannonsmith.ca/event/vintage-chophouse-1000pm-100am-2/
END:VEVENT
BEGIN:VEVENT
DTSTART;TZID=America/Edmonton:20161216T220000
DTEND;TZID=America/Edmonton:20161216T220000
DTSTAMP:20260419T232206
CREATED:20160703T024207Z
LAST-MODIFIED:20160921T035355Z
UID:1168-1481925600-1481925600@shannonsmith.ca
SUMMARY:Vintage Chophouse 10:00pm-1:00am
DESCRIPTION:
URL:https://shannonsmith.ca/event/vintage-chophouse-1000pm-100am/
END:VEVENT
BEGIN:VEVENT
DTSTART;TZID=America/Edmonton:20161210T210000
DTEND;TZID=America/Edmonton:20161210T210000
DTSTAMP:20260419T232206
CREATED:20160111T060405Z
LAST-MODIFIED:20160120T061743Z
UID:1012-1481403600-1481403600@shannonsmith.ca
SUMMARY:Private Corporate Event\, Edmonton
DESCRIPTION:
URL:https://shannonsmith.ca/event/tba-edmonton/
END:VEVENT
BEGIN:VEVENT
DTSTART;TZID=America/Edmonton:20161203T203000
DTEND;TZID=America/Edmonton:20161203T203000
DTSTAMP:20260419T232206
CREATED:20160111T060249Z
LAST-MODIFIED:20160921T035432Z
UID:1011-1480797000-1480797000@shannonsmith.ca
SUMMARY:MARRIOTT HOTEL\, Calgary 8:30pm-1:30am
DESCRIPTION:
URL:https://shannonsmith.ca/event/neilburg-sk-900pm/
END:VEVENT
BEGIN:VEVENT
DTSTART;TZID=America/Edmonton:20161126T203000
DTEND;TZID=America/Edmonton:20161126T203000
DTSTAMP:20260419T232206
CREATED:20160716T221600Z
LAST-MODIFIED:20160921T035334Z
UID:1181-1480192200-1480192200@shannonsmith.ca
SUMMARY:HANNA - Corporate Event 8:30pm-1:00am
DESCRIPTION:
URL:https://shannonsmith.ca/event/tba-corporate-event-2/
END:VEVENT
BEGIN:VEVENT
DTSTART;TZID=America/Edmonton:20161118T210000
DTEND;TZID=America/Edmonton:20161118T210000
DTSTAMP:20260419T232206
CREATED:20160111T060741Z
LAST-MODIFIED:20160703T030052Z
UID:1013-1479502800-1479502800@shannonsmith.ca
SUMMARY:Fairmount Springs Hotel\, Banff (Private Event)
DESCRIPTION:
URL:https://shannonsmith.ca/event/tba-3/
END:VEVENT
BEGIN:VEVENT
DTSTART;TZID=America/Edmonton:20161112T210000
DTEND;TZID=America/Edmonton:20161112T210000
DTSTAMP:20260419T232206
CREATED:20160921T034905Z
LAST-MODIFIED:20160921T035222Z
UID:1234-1478984400-1478984400@shannonsmith.ca
SUMMARY:Casino Yellowhead\, Edmonton 9:00pm - 1:00am
DESCRIPTION:
URL:https://shannonsmith.ca/event/casino-yellowhead-edmonton-2/
LOCATION:Casino Yellowhead\, 12464 153 St NW\, Edmonton\, Alberta\, T5V 1S5\, Canada
END:VEVENT
BEGIN:VEVENT
DTSTART;TZID=America/Edmonton:20161111T210000
DTEND;TZID=America/Edmonton:20161111T210000
DTSTAMP:20260419T232206
CREATED:20160921T034745Z
LAST-MODIFIED:20160921T035500Z
UID:1233-1478898000-1478898000@shannonsmith.ca
SUMMARY:Casino Yellowhead\, Edmonton 9:00pm - 1:00am
DESCRIPTION:
URL:https://shannonsmith.ca/event/casino-yellowhead-edmonton/
LOCATION:Casino Yellowhead\, 12464 153 St NW\, Edmonton\, Alberta\, T5V 1S5\, Canada
END:VEVENT
END:VCALENDAR