BEGIN:VCALENDAR
VERSION:2.0
PRODID:-//Shannon Smith - ECPv6.15.20//NONSGML v1.0//EN
CALSCALE:GREGORIAN
METHOD:PUBLISH
X-ORIGINAL-URL:https://shannonsmith.ca
X-WR-CALDESC:Events for Shannon Smith
REFRESH-INTERVAL;VALUE=DURATION:PT1H
X-Robots-Tag:noindex
X-PUBLISHED-TTL:PT1H
BEGIN:VTIMEZONE
TZID:America/Edmonton
BEGIN:DAYLIGHT
TZOFFSETFROM:-0700
TZOFFSETTO:-0600
TZNAME:MDT
DTSTART:20160313T090000
END:DAYLIGHT
BEGIN:STANDARD
TZOFFSETFROM:-0600
TZOFFSETTO:-0700
TZNAME:MST
DTSTART:20161106T080000
END:STANDARD
BEGIN:DAYLIGHT
TZOFFSETFROM:-0700
TZOFFSETTO:-0600
TZNAME:MDT
DTSTART:20170312T090000
END:DAYLIGHT
BEGIN:STANDARD
TZOFFSETFROM:-0600
TZOFFSETTO:-0700
TZNAME:MST
DTSTART:20171105T080000
END:STANDARD
BEGIN:DAYLIGHT
TZOFFSETFROM:-0700
TZOFFSETTO:-0600
TZNAME:MDT
DTSTART:20180311T090000
END:DAYLIGHT
BEGIN:STANDARD
TZOFFSETFROM:-0600
TZOFFSETTO:-0700
TZNAME:MST
DTSTART:20181104T080000
END:STANDARD
END:VTIMEZONE
BEGIN:VEVENT
DTSTART;TZID=America/Edmonton:20170929T214500
DTEND;TZID=America/Edmonton:20170929T214500
DTSTAMP:20260419T182600
CREATED:20170717T013328Z
LAST-MODIFIED:20170717T020229Z
UID:38623-1506721500-1506721500@shannonsmith.ca
SUMMARY:MURRIETA'S BAR & GRILL\, CALGARY
DESCRIPTION:
URL:https://shannonsmith.ca/event/murrietas-bar-grill-3/
END:VEVENT
BEGIN:VEVENT
DTSTART;TZID=America/Edmonton:20170923T203000
DTEND;TZID=America/Edmonton:20170923T203000
DTSTAMP:20260419T182600
CREATED:20170403T022345Z
LAST-MODIFIED:20170717T013609Z
UID:2540-1506198600-1506198600@shannonsmith.ca
SUMMARY:THE VENUE BAR & GRILL\, COCHRANE
DESCRIPTION:
URL:https://shannonsmith.ca/event/the-venue-bar-grill-cochrane-2/
END:VEVENT
BEGIN:VEVENT
DTSTART;TZID=America/Edmonton:20170922T210000
DTEND;TZID=America/Edmonton:20170922T210000
DTSTAMP:20260419T182600
CREATED:20170403T022205Z
LAST-MODIFIED:20170717T013737Z
UID:2538-1506114000-1506114000@shannonsmith.ca
SUMMARY:The VENUE BAR & GRILL\, COCHRANE
DESCRIPTION:
URL:https://shannonsmith.ca/event/the-venue-bar-grill-cochrane/
END:VEVENT
BEGIN:VEVENT
DTSTART;TZID=America/Edmonton:20170916T213000
DTEND;TZID=America/Edmonton:20170916T213000
DTSTAMP:20260419T182600
CREATED:20170107T001758Z
LAST-MODIFIED:20170107T001758Z
UID:1341-1505597400-1505597400@shannonsmith.ca
SUMMARY:WILD BILL'S LEGENDARY SALOON\, BANFF
DESCRIPTION:
URL:https://shannonsmith.ca/event/wild-bills-legendary-saloon-banff-6/
END:VEVENT
BEGIN:VEVENT
DTSTART;TZID=America/Edmonton:20170915T213000
DTEND;TZID=America/Edmonton:20170915T213000
DTSTAMP:20260419T182600
CREATED:20170107T001707Z
LAST-MODIFIED:20170107T001707Z
UID:1339-1505511000-1505511000@shannonsmith.ca
SUMMARY:WILD BILL'S LEGENDARY SALOON\, BANFF
DESCRIPTION:
URL:https://shannonsmith.ca/event/wild-bills-legendary-saloon-banff-5/
END:VEVENT
BEGIN:VEVENT
DTSTART;TZID=America/Edmonton:20170914T213000
DTEND;TZID=America/Edmonton:20170914T213000
DTSTAMP:20260419T182600
CREATED:20170107T001552Z
LAST-MODIFIED:20170107T001552Z
UID:1337-1505424600-1505424600@shannonsmith.ca
SUMMARY:WILD BILL'S LEGENDARY SALOON\, BANFF (THURSDAY)
DESCRIPTION:
URL:https://shannonsmith.ca/event/wild-bills-legendary-saloon-banff-thursday-3/
END:VEVENT
BEGIN:VEVENT
DTSTART;TZID=America/Edmonton:20170909T220000
DTEND;TZID=America/Edmonton:20170909T220000
DTSTAMP:20260419T182600
CREATED:20170717T012351Z
LAST-MODIFIED:20170717T015853Z
UID:38615-1504994400-1504994400@shannonsmith.ca
SUMMARY:VINTAGE CHOPHOUSE\, CALGARY
DESCRIPTION:
URL:https://shannonsmith.ca/event/vintage-chophouse-3/
END:VEVENT
BEGIN:VEVENT
DTSTART;TZID=America/Edmonton:20170908T220000
DTEND;TZID=America/Edmonton:20170908T220000
DTSTAMP:20260419T182600
CREATED:20170717T012242Z
LAST-MODIFIED:20170717T015932Z
UID:38613-1504908000-1504908000@shannonsmith.ca
SUMMARY:VINTAGE CHOPHOUSE\, CALGARY
DESCRIPTION:
URL:https://shannonsmith.ca/event/vintage-chophouse-2/
END:VEVENT
BEGIN:VEVENT
DTSTART;TZID=America/Edmonton:20170819T210000
DTEND;TZID=America/Edmonton:20170819T210000
DTSTAMP:20260419T182600
CREATED:20170107T001243Z
LAST-MODIFIED:20170107T001243Z
UID:1335-1503176400-1503176400@shannonsmith.ca
SUMMARY:BIG AL'S\, CALGARY
DESCRIPTION:
URL:https://shannonsmith.ca/event/big-als-calgary-6/
END:VEVENT
BEGIN:VEVENT
DTSTART;TZID=America/Edmonton:20170818T210000
DTEND;TZID=America/Edmonton:20170818T210000
DTSTAMP:20260419T182600
CREATED:20170107T001151Z
LAST-MODIFIED:20170107T001151Z
UID:1333-1503090000-1503090000@shannonsmith.ca
SUMMARY:BIG AL'S\, CALGARY
DESCRIPTION:
URL:https://shannonsmith.ca/event/big-als-calgary-5/
END:VEVENT
BEGIN:VEVENT
DTSTART;TZID=America/Edmonton:20170812T213000
DTEND;TZID=America/Edmonton:20170812T213000
DTSTAMP:20260419T182600
CREATED:20170107T001100Z
LAST-MODIFIED:20170107T001100Z
UID:1331-1502573400-1502573400@shannonsmith.ca
SUMMARY:WILD BILL'S LEGENDARY SALOON\, BANFF
DESCRIPTION:
URL:https://shannonsmith.ca/event/wild-bills-legendary-saloon-banff-4/
END:VEVENT
BEGIN:VEVENT
DTSTART;TZID=America/Edmonton:20170811T213000
DTEND;TZID=America/Edmonton:20170811T213000
DTSTAMP:20260419T182600
CREATED:20170107T000921Z
LAST-MODIFIED:20170107T000921Z
UID:1329-1502487000-1502487000@shannonsmith.ca
SUMMARY:WILD BILL'S LEGENDARY SALOON\, BANFF
DESCRIPTION:
URL:https://shannonsmith.ca/event/wild-bills-legendary-saloon-banff-3/
END:VEVENT
BEGIN:VEVENT
DTSTART;TZID=America/Edmonton:20170810T213000
DTEND;TZID=America/Edmonton:20170810T213000
DTSTAMP:20260419T182600
CREATED:20170107T000818Z
LAST-MODIFIED:20170107T000818Z
UID:1327-1502400600-1502400600@shannonsmith.ca
SUMMARY:WILD BILL'S LEGENDARY SALOON\, BANFF (THURSDAY)
DESCRIPTION:
URL:https://shannonsmith.ca/event/wild-bills-legendary-saloon-banff-thursday-2/
END:VEVENT
BEGIN:VEVENT
DTSTART;TZID=America/Edmonton:20170729T180000
DTEND;TZID=America/Edmonton:20170729T180000
DTSTAMP:20260419T182600
CREATED:20170107T000616Z
LAST-MODIFIED:20170305T001746Z
UID:1325-1501351200-1501351200@shannonsmith.ca
SUMMARY:PRIVATE CORPORATE EVENT
DESCRIPTION:
URL:https://shannonsmith.ca/event/tba-2/
END:VEVENT
BEGIN:VEVENT
DTSTART;TZID=America/Edmonton:20170722T213000
DTEND;TZID=America/Edmonton:20170722T213000
DTSTAMP:20260419T182600
CREATED:20170106T235353Z
LAST-MODIFIED:20170106T235810Z
UID:1323-1500759000-1500759000@shannonsmith.ca
SUMMARY:COUNTY LINE SALOON\, CALGARY
DESCRIPTION:
URL:https://shannonsmith.ca/event/county-line-saloon-calgary-5/
END:VEVENT
BEGIN:VEVENT
DTSTART;TZID=America/Edmonton:20170721T213000
DTEND;TZID=America/Edmonton:20170721T213000
DTSTAMP:20260419T182600
CREATED:20170106T235223Z
LAST-MODIFIED:20170106T235223Z
UID:1321-1500672600-1500672600@shannonsmith.ca
SUMMARY:COUNTY LINE SALOON\, CALGARY
DESCRIPTION:
URL:https://shannonsmith.ca/event/county-line-saloon-calgary-4/
END:VEVENT
BEGIN:VEVENT
DTSTART;TZID=America/Edmonton:20170715T213000
DTEND;TZID=America/Edmonton:20170715T213000
DTSTAMP:20260419T182600
CREATED:20170618T161637Z
LAST-MODIFIED:20170618T161730Z
UID:38431-1500154200-1500154200@shannonsmith.ca
SUMMARY:ELBOW RIVER CASINO\, CALGARY (9:30PM - 1:00AM) Saturday
DESCRIPTION:
URL:https://shannonsmith.ca/event/elbow-river-casino-calgary-930pm-100am-saturday/
END:VEVENT
BEGIN:VEVENT
DTSTART;TZID=America/Edmonton:20170715T140000
DTEND;TZID=America/Edmonton:20170715T190000
DTSTAMP:20260419T182600
CREATED:20170707T032239Z
LAST-MODIFIED:20170707T033225Z
UID:38548-1500127200-1500145200@shannonsmith.ca
SUMMARY:KNOXVILLE'S TAVERN/TENT\, CALGARY(2:00PM -7:00PM) 840 9th St. SW Saturday
DESCRIPTION:
URL:https://shannonsmith.ca/event/knoxvilles-taverntent-calgary2pm-7pm-840-9th-st-sw-saturday/
END:VEVENT
BEGIN:VEVENT
DTSTART;TZID=America/Edmonton:20170714T213000
DTEND;TZID=America/Edmonton:20170714T213000
DTSTAMP:20260419T182600
CREATED:20170618T161430Z
LAST-MODIFIED:20170618T161430Z
UID:38429-1500067800-1500067800@shannonsmith.ca
SUMMARY:ELBOW RIVER CASINO\, CALGARY (9:30PM - 1:00AM) Friday
DESCRIPTION:
URL:https://shannonsmith.ca/event/elbow-river-casino-calgary-930pm-100am-friday/
END:VEVENT
BEGIN:VEVENT
DTSTART;TZID=America/Edmonton:20170714T120000
DTEND;TZID=America/Edmonton:20170714T170000
DTSTAMP:20260419T182600
CREATED:20170618T155717Z
LAST-MODIFIED:20170707T033555Z
UID:38416-1500033600-1500051600@shannonsmith.ca
SUMMARY:KNOXVILLE'S TAVERN/TENT\, CALGARY(Noon - 5:00PM) Friday 840 9th St. SW
DESCRIPTION:
URL:https://shannonsmith.ca/event/knoxvilles-taverntent-calgarynoon-500pm-840-9th-st-sw-5/
END:VEVENT
BEGIN:VEVENT
DTSTART;TZID=America/Edmonton:20170713T213000
DTEND;TZID=America/Edmonton:20170713T213000
DTSTAMP:20260419T182600
CREATED:20170618T161244Z
LAST-MODIFIED:20170618T161302Z
UID:38427-1499981400-1499981400@shannonsmith.ca
SUMMARY:ELBOW RIVER CASINO\, CALGARY (9:30PM - 1:00AM) Thursday
DESCRIPTION:
URL:https://shannonsmith.ca/event/elbow-river-casino-calgary-930pm-100am-thursday/
END:VEVENT
BEGIN:VEVENT
DTSTART;TZID=America/Edmonton:20170713T120000
DTEND;TZID=America/Edmonton:20170713T170000
DTSTAMP:20260419T182600
CREATED:20170618T155800Z
LAST-MODIFIED:20170707T033306Z
UID:38418-1499947200-1499965200@shannonsmith.ca
SUMMARY:KNOXVILLE'S TAVERN/TENT\, CALGARY(Noon - 5:00PM) Thursday 840 9th St. SW
DESCRIPTION:
URL:https://shannonsmith.ca/event/knoxvilles-taverntent-calgarynoon-500pm-840-9th-st-sw-6/
END:VEVENT
BEGIN:VEVENT
DTSTART;TZID=America/Edmonton:20170712T120000
DTEND;TZID=America/Edmonton:20170712T170000
DTSTAMP:20260419T182600
CREATED:20170618T155632Z
LAST-MODIFIED:20170707T033527Z
UID:38414-1499860800-1499878800@shannonsmith.ca
SUMMARY:KNOXVILLE'S TAVERN/TENT\, CALGARY(Noon - 5:00PM) Wednesday 840 9th St. SW
DESCRIPTION:
URL:https://shannonsmith.ca/event/knoxvilles-taverntent-calgarynoon-500pm-840-9th-st-sw-4/
END:VEVENT
BEGIN:VEVENT
DTSTART;TZID=America/Edmonton:20170712T083000
DTEND;TZID=America/Edmonton:20170712T124500
DTSTAMP:20260419T182600
CREATED:20170618T161001Z
LAST-MODIFIED:20170618T161001Z
UID:38425-1499848200-1499863500@shannonsmith.ca
SUMMARY:CORPORATE BREAKFAST (8:30AM - 11:45AM) Wednesday
DESCRIPTION:
URL:https://shannonsmith.ca/event/corporate-breakfast-830am-1145am-wednesday/
END:VEVENT
BEGIN:VEVENT
DTSTART;TZID=America/Edmonton:20170711T120000
DTEND;TZID=America/Edmonton:20170711T200000
DTSTAMP:20260419T182600
CREATED:20170618T155501Z
LAST-MODIFIED:20170707T033403Z
UID:38412-1499774400-1499803200@shannonsmith.ca
SUMMARY:KNOXVILLE'S TAVERN/TENT\, CALGARY(Noon - 2:00pm) & (5:00PM - 8:00PM)Tuesday 840 9th St. SW
DESCRIPTION:
URL:https://shannonsmith.ca/event/knoxvilles-taverntent-calgarynoon-500pm-840-9th-st-sw-3/
END:VEVENT
BEGIN:VEVENT
DTSTART;TZID=America/Edmonton:20170709T070000
DTEND;TZID=America/Edmonton:20170709T100000
DTSTAMP:20260419T182600
CREATED:20170618T160725Z
LAST-MODIFIED:20170706T152904Z
UID:38423-1499583600-1499594400@shannonsmith.ca
SUMMARY:CORPORATE BREAKFAST (7:00AM - 10:00AM) Sunday
DESCRIPTION:
URL:https://shannonsmith.ca/event/corporate-breakfast-700am-1015am-sunday/
END:VEVENT
BEGIN:VEVENT
DTSTART;TZID=America/Edmonton:20170707T080000
DTEND;TZID=America/Edmonton:20170707T170000
DTSTAMP:20260419T182600
CREATED:20170618T155202Z
LAST-MODIFIED:20170707T033420Z
UID:38408-1499414400-1499446800@shannonsmith.ca
SUMMARY:KNOXVILLE'S TAVERN/TENT\, CALGARY(Noon - 5:00PM) 840 9th St. SW Friday
DESCRIPTION:
URL:https://shannonsmith.ca/event/knoxvilles-taverntent-calgarynoon-500pm-840-9th-st-sw/
END:VEVENT
BEGIN:VEVENT
DTSTART;TZID=America/Edmonton:20170707T064500
DTEND;TZID=America/Edmonton:20170707T101500
DTSTAMP:20260419T182600
CREATED:20170618T160331Z
LAST-MODIFIED:20170706T152734Z
UID:38421-1499409900-1499422500@shannonsmith.ca
SUMMARY:CORPORATE BREAKFAST (6:45AM - 10:15AM)Friday
DESCRIPTION:
URL:https://shannonsmith.ca/event/corporate-breakfast-645am-1015am/
END:VEVENT
BEGIN:VEVENT
DTSTART;TZID=America/Edmonton:20170706T120000
DTEND;TZID=America/Edmonton:20170706T170000
DTSTAMP:20260419T182600
CREATED:20170618T154450Z
LAST-MODIFIED:20170707T033440Z
UID:38405-1499342400-1499360400@shannonsmith.ca
SUMMARY:KNOXVILLE'S TAVERN/TENT\, CALGARY(2:00PM - 6:00PM) 840 9th St. SW Thursday
DESCRIPTION:
URL:https://shannonsmith.ca/event/knoxvilles-tavern-calgary-noon-500pm-840-9th-st-sw/
END:VEVENT
BEGIN:VEVENT
DTSTART;TZID=America/Edmonton:20170610T214500
DTEND;TZID=America/Edmonton:20170610T214500
DTSTAMP:20260419T182600
CREATED:20170305T002930Z
LAST-MODIFIED:20170305T002930Z
UID:1460-1497131100-1497131100@shannonsmith.ca
SUMMARY:MURRIETA'S BAR & GRILL
DESCRIPTION:
URL:https://shannonsmith.ca/event/murrietas-bar-grill-2/
END:VEVENT
END:VCALENDAR