BEGIN:VCALENDAR
VERSION:2.0
PRODID:-//Shannon Smith - ECPv6.15.20//NONSGML v1.0//EN
CALSCALE:GREGORIAN
METHOD:PUBLISH
X-ORIGINAL-URL:https://shannonsmith.ca
X-WR-CALDESC:Events for Shannon Smith
REFRESH-INTERVAL;VALUE=DURATION:PT1H
X-Robots-Tag:noindex
X-PUBLISHED-TTL:PT1H
BEGIN:VTIMEZONE
TZID:America/Edmonton
BEGIN:DAYLIGHT
TZOFFSETFROM:-0700
TZOFFSETTO:-0600
TZNAME:MDT
DTSTART:20170312T090000
END:DAYLIGHT
BEGIN:STANDARD
TZOFFSETFROM:-0600
TZOFFSETTO:-0700
TZNAME:MST
DTSTART:20171105T080000
END:STANDARD
BEGIN:DAYLIGHT
TZOFFSETFROM:-0700
TZOFFSETTO:-0600
TZNAME:MDT
DTSTART:20180311T090000
END:DAYLIGHT
BEGIN:STANDARD
TZOFFSETFROM:-0600
TZOFFSETTO:-0700
TZNAME:MST
DTSTART:20181104T080000
END:STANDARD
BEGIN:DAYLIGHT
TZOFFSETFROM:-0700
TZOFFSETTO:-0600
TZNAME:MDT
DTSTART:20190310T090000
END:DAYLIGHT
BEGIN:STANDARD
TZOFFSETFROM:-0600
TZOFFSETTO:-0700
TZNAME:MST
DTSTART:20191103T080000
END:STANDARD
END:VTIMEZONE
BEGIN:VEVENT
DTSTART;TZID=America/Edmonton:20181109T213000
DTEND;TZID=America/Edmonton:20181110T013000
DTSTAMP:20260419T105742
CREATED:20180702T195313Z
LAST-MODIFIED:20180702T195539Z
UID:42456-1541799000-1541813400@shannonsmith.ca
SUMMARY:ELBOW RIVER CASINO 9:30PM - 1:00AM
DESCRIPTION:
URL:https://shannonsmith.ca/event/elbow-river-casino-930pm-130pm/
END:VEVENT
BEGIN:VEVENT
DTSTART;TZID=America/Edmonton:20181103T213000
DTEND;TZID=America/Edmonton:20181103T213000
DTSTAMP:20260419T105742
CREATED:20180105T043937Z
LAST-MODIFIED:20180105T044019Z
UID:42075-1541280600-1541280600@shannonsmith.ca
SUMMARY:COUNTY LINE SALOON\, CALGARY
DESCRIPTION:
URL:https://shannonsmith.ca/event/county-line-saloon-calgary-13/
END:VEVENT
BEGIN:VEVENT
DTSTART;TZID=America/Edmonton:20181102T213000
DTEND;TZID=America/Edmonton:20181102T213000
DTSTAMP:20260419T105742
CREATED:20180105T030904Z
LAST-MODIFIED:20180105T043758Z
UID:42073-1541194200-1541194200@shannonsmith.ca
SUMMARY:COUNTY LINE SALOON\, CALGARY
DESCRIPTION:
URL:https://shannonsmith.ca/event/county-line-saloon-calgary-12/
END:VEVENT
BEGIN:VEVENT
DTSTART;TZID=America/Edmonton:20181027T193000
DTEND;TZID=America/Edmonton:20181027T220000
DTSTAMP:20260419T105742
CREATED:20180212T150349Z
LAST-MODIFIED:20180212T150349Z
UID:42287-1540668600-1540677600@shannonsmith.ca
SUMMARY:SHANIA TRIBUTE\, HANNA\, AB
DESCRIPTION:
URL:https://shannonsmith.ca/event/shania-tribute-hanna-ab/
END:VEVENT
BEGIN:VEVENT
DTSTART;TZID=America/Edmonton:20180922T213000
DTEND;TZID=America/Edmonton:20180922T213000
DTSTAMP:20260419T105742
CREATED:20180903T214411Z
LAST-MODIFIED:20180903T214411Z
UID:42831-1537651800-1537651800@shannonsmith.ca
SUMMARY:WILD BILL'S\, BANFF 9:30PM - 1:30AM
DESCRIPTION:
URL:https://shannonsmith.ca/event/wild-bills-banff-930pm-130am-2/
END:VEVENT
BEGIN:VEVENT
DTSTART;TZID=America/Edmonton:20180921T213000
DTEND;TZID=America/Edmonton:20180921T213000
DTSTAMP:20260419T105742
CREATED:20180903T205233Z
LAST-MODIFIED:20180903T205233Z
UID:42829-1537565400-1537565400@shannonsmith.ca
SUMMARY:WILD BILL'S\, BANFF 9:30PM - 1:30AM
DESCRIPTION:
URL:https://shannonsmith.ca/event/wild-bills-banff-930pm-130am/
END:VEVENT
BEGIN:VEVENT
DTSTART;TZID=America/Edmonton:20180920T213000
DTEND;TZID=America/Edmonton:20180920T213000
DTSTAMP:20260419T105742
CREATED:20180903T204827Z
LAST-MODIFIED:20180903T204841Z
UID:42827-1537479000-1537479000@shannonsmith.ca
SUMMARY:WILD BILL'S\, BANFF - THURSDAY 9:30PM - 1:30AM
DESCRIPTION:
URL:https://shannonsmith.ca/event/wild-bills-banff-thursday-930pm-130am/
END:VEVENT
BEGIN:VEVENT
DTSTART;TZID=America/Edmonton:20180901T213000
DTEND;TZID=America/Edmonton:20180901T213000
DTSTAMP:20260419T105742
CREATED:20171030T022836Z
LAST-MODIFIED:20171030T022836Z
UID:39713-1535837400-1535837400@shannonsmith.ca
SUMMARY:WILD BILLS\, BANFF
DESCRIPTION:
URL:https://shannonsmith.ca/event/wild-bills-banff-7/
END:VEVENT
BEGIN:VEVENT
DTSTART;TZID=America/Edmonton:20180831T213000
DTEND;TZID=America/Edmonton:20180831T213000
DTSTAMP:20260419T105742
CREATED:20171030T022707Z
LAST-MODIFIED:20171030T022707Z
UID:39711-1535751000-1535751000@shannonsmith.ca
SUMMARY:WILD BILL'S\, BANFF
DESCRIPTION:
URL:https://shannonsmith.ca/event/wild-bills-banff-6/
END:VEVENT
BEGIN:VEVENT
DTSTART;TZID=America/Edmonton:20180830T213000
DTEND;TZID=America/Edmonton:20180830T213000
DTSTAMP:20260419T105742
CREATED:20171030T022538Z
LAST-MODIFIED:20171030T022538Z
UID:39709-1535664600-1535664600@shannonsmith.ca
SUMMARY:WILD BILL'S\, BANFF (THURSDAY)
DESCRIPTION:
URL:https://shannonsmith.ca/event/wild-bills-banff-thursday-6/
END:VEVENT
BEGIN:VEVENT
DTSTART;TZID=America/Edmonton:20180818T200000
DTEND;TZID=America/Edmonton:20180818T213000
DTSTAMP:20260419T105742
CREATED:20180212T034144Z
LAST-MODIFIED:20180212T034651Z
UID:42283-1534622400-1534627800@shannonsmith.ca
SUMMARY:LONGVIEW\, SATURDAY 8:00PM - 9:30PM
DESCRIPTION:
URL:https://shannonsmith.ca/event/longview-saturday-800pm-930pm/
END:VEVENT
BEGIN:VEVENT
DTSTART;TZID=America/Edmonton:20180811T213000
DTEND;TZID=America/Edmonton:20180811T213000
DTSTAMP:20260419T105742
CREATED:20180105T030725Z
LAST-MODIFIED:20180105T030751Z
UID:42071-1534023000-1534023000@shannonsmith.ca
SUMMARY:COUNTY LINE SALOON\, CALGARY
DESCRIPTION:
URL:https://shannonsmith.ca/event/county-line-saloon-calgary-11/
END:VEVENT
BEGIN:VEVENT
DTSTART;TZID=America/Edmonton:20180810T213000
DTEND;TZID=America/Edmonton:20180810T213000
DTSTAMP:20260419T105742
CREATED:20180105T030610Z
LAST-MODIFIED:20180105T030610Z
UID:42069-1533936600-1533936600@shannonsmith.ca
SUMMARY:COUNTY LINE SALOON\, CALGARY
DESCRIPTION:
URL:https://shannonsmith.ca/event/county-line-saloon-calgary-10/
END:VEVENT
BEGIN:VEVENT
DTSTART;TZID=America/Edmonton:20180713T113000
DTEND;TZID=America/Edmonton:20180713T170000
DTSTAMP:20260419T105742
CREATED:20180702T184128Z
LAST-MODIFIED:20180702T184128Z
UID:42449-1531481400-1531501200@shannonsmith.ca
SUMMARY:KNOXVILLE'S TAVERN 11:30PM - 5:00PM
DESCRIPTION:
URL:https://shannonsmith.ca/event/knoxvilles-tavern-1130pm-500pm-2/
END:VEVENT
BEGIN:VEVENT
DTSTART;TZID=America/Edmonton:20180712T120000
DTEND;TZID=America/Edmonton:20180712T170000
DTSTAMP:20260419T105742
CREATED:20180702T184015Z
LAST-MODIFIED:20180702T184015Z
UID:42447-1531396800-1531414800@shannonsmith.ca
SUMMARY:KNOXVILLE'S TAVERN 12:00PM - 5:00PM
DESCRIPTION:
URL:https://shannonsmith.ca/event/knoxvilles-tavern-1200pm-500pm/
END:VEVENT
BEGIN:VEVENT
DTSTART;TZID=America/Edmonton:20180711T120000
DTEND;TZID=America/Edmonton:20180711T170000
DTSTAMP:20260419T105742
CREATED:20180702T183846Z
LAST-MODIFIED:20180702T183846Z
UID:42445-1531310400-1531328400@shannonsmith.ca
SUMMARY:KNOXVILLE'S TAVERN 12:00AM - 5:00PM
DESCRIPTION:
URL:https://shannonsmith.ca/event/knoxvilles-tavern-1200am-500pm/
END:VEVENT
BEGIN:VEVENT
DTSTART;TZID=America/Edmonton:20180710T113000
DTEND;TZID=America/Edmonton:20180710T170000
DTSTAMP:20260419T105742
CREATED:20180702T183717Z
LAST-MODIFIED:20180702T183717Z
UID:42443-1531222200-1531242000@shannonsmith.ca
SUMMARY:KNOXVILLE'S TAVERN 11:30AM - 5:00PM
DESCRIPTION:
URL:https://shannonsmith.ca/event/knoxvilles-tavern-1130am-500pm/
END:VEVENT
BEGIN:VEVENT
DTSTART;TZID=America/Edmonton:20180708T070000
DTEND;TZID=America/Edmonton:20180708T100000
DTSTAMP:20260419T105742
CREATED:20180702T185625Z
LAST-MODIFIED:20180702T190811Z
UID:42454-1531033200-1531044000@shannonsmith.ca
SUMMARY:HERITAGE PARK BREAKFAST 7:00AM - 10:00AM
DESCRIPTION:
URL:https://shannonsmith.ca/event/heritage-park-breakfast-700am-1000am/
END:VEVENT
BEGIN:VEVENT
DTSTART;TZID=America/Edmonton:20180706T113000
DTEND;TZID=America/Edmonton:20180706T170000
DTSTAMP:20260419T105742
CREATED:20180702T183541Z
LAST-MODIFIED:20180702T183541Z
UID:42441-1530876600-1530896400@shannonsmith.ca
SUMMARY:KNOXVILLES TAVERN 11:30PM - 5:00PM
DESCRIPTION:
URL:https://shannonsmith.ca/event/knoxvilles-tavern-1130pm-500pm/
END:VEVENT
BEGIN:VEVENT
DTSTART;TZID=America/Edmonton:20180706T064500
DTEND;TZID=America/Edmonton:20180706T101500
DTSTAMP:20260419T105742
CREATED:20180702T185003Z
LAST-MODIFIED:20180702T185003Z
UID:42452-1530859500-1530872100@shannonsmith.ca
SUMMARY:CORPORATE BREAKFAST 6:45AM - 10:15AM
DESCRIPTION:
URL:https://shannonsmith.ca/event/corporate-breakfast-645am-1015am-2/
END:VEVENT
BEGIN:VEVENT
DTSTART;TZID=America/Edmonton:20180705T140000
DTEND;TZID=America/Edmonton:20180705T170000
DTSTAMP:20260419T105742
CREATED:20180702T183405Z
LAST-MODIFIED:20180702T184246Z
UID:42439-1530799200-1530810000@shannonsmith.ca
SUMMARY:KNOXVILLE'S TAVERN 2:00PM - 5:00PM
DESCRIPTION:
URL:https://shannonsmith.ca/event/knoxvilles-tavern-2pm-5pm/
END:VEVENT
BEGIN:VEVENT
DTSTART;TZID=America/Edmonton:20180519T213000
DTEND;TZID=America/Edmonton:20180519T213000
DTSTAMP:20260419T105742
CREATED:20180105T030326Z
LAST-MODIFIED:20180105T030404Z
UID:42067-1526765400-1526765400@shannonsmith.ca
SUMMARY:ELBOW RIVER CASINO\, CALGARY
DESCRIPTION:
URL:https://shannonsmith.ca/event/elbow-river-casino-calgary-4/
END:VEVENT
BEGIN:VEVENT
DTSTART;TZID=America/Edmonton:20180518T213000
DTEND;TZID=America/Edmonton:20180518T213000
DTSTAMP:20260419T105742
CREATED:20180105T030028Z
LAST-MODIFIED:20180105T030045Z
UID:42065-1526679000-1526679000@shannonsmith.ca
SUMMARY:ELBOW RIVER CASINO\, CALGARY
DESCRIPTION:
URL:https://shannonsmith.ca/event/elbow-river-casino-calgary-3/
END:VEVENT
BEGIN:VEVENT
DTSTART;TZID=America/Edmonton:20180505T213000
DTEND;TZID=America/Edmonton:20180505T213000
DTSTAMP:20260419T105742
CREATED:20180105T044550Z
LAST-MODIFIED:20180105T044550Z
UID:42080-1525555800-1525555800@shannonsmith.ca
SUMMARY:COUNTY LINE SALOON\, CALGARY
DESCRIPTION:
URL:https://shannonsmith.ca/event/county-line-saloon-calgary-14/
END:VEVENT
BEGIN:VEVENT
DTSTART;TZID=America/Edmonton:20180504T213000
DTEND;TZID=America/Edmonton:20180504T213000
DTSTAMP:20260419T105742
CREATED:20180105T024946Z
LAST-MODIFIED:20180105T044752Z
UID:42061-1525469400-1525469400@shannonsmith.ca
SUMMARY:COUNTY LINE SALOON\, CALGARY
DESCRIPTION:
URL:https://shannonsmith.ca/event/vintage-chophouse-calgary-2/
END:VEVENT
BEGIN:VEVENT
DTSTART;TZID=America/Edmonton:20180317T220000
DTEND;TZID=America/Edmonton:20180317T220000
DTSTAMP:20260419T105742
CREATED:20180105T044224Z
LAST-MODIFIED:20180105T044312Z
UID:42077-1521324000-1521324000@shannonsmith.ca
SUMMARY:VINTAGE CHOPHOUSE\, CALGARY
DESCRIPTION:
URL:https://shannonsmith.ca/event/vintage-chophouse-calgary-3/
END:VEVENT
BEGIN:VEVENT
DTSTART;TZID=America/Edmonton:20180316T220000
DTEND;TZID=America/Edmonton:20180316T220000
DTSTAMP:20260419T105742
CREATED:20180105T024353Z
LAST-MODIFIED:20180105T024353Z
UID:42057-1521237600-1521237600@shannonsmith.ca
SUMMARY:VINTAGE CHOPHOUSE\, CALGARY
DESCRIPTION:
URL:https://shannonsmith.ca/event/vintage-chophouse-calgary/
END:VEVENT
BEGIN:VEVENT
DTSTART;TZID=America/Edmonton:20180303T213000
DTEND;TZID=America/Edmonton:20180303T213000
DTSTAMP:20260419T105742
CREATED:20171030T021342Z
LAST-MODIFIED:20171030T023356Z
UID:39699-1520112600-1520112600@shannonsmith.ca
SUMMARY:RALPH'S TEXAS BAR & STEAK HOUSE\, Medicine Hat\, AB
DESCRIPTION:
URL:https://shannonsmith.ca/event/ralphs-texas-bar-steak-house-medicine-hat-ab/
END:VEVENT
BEGIN:VEVENT
DTSTART;TZID=America/Edmonton:20180302T213000
DTEND;TZID=America/Edmonton:20180302T213000
DTSTAMP:20260419T105742
CREATED:20171030T021136Z
LAST-MODIFIED:20171030T023427Z
UID:39697-1520026200-1520026200@shannonsmith.ca
SUMMARY:RALPH'S TEXAS BAR & STEAK HOUSE\, MEDICINE HAT\,AB
DESCRIPTION:
URL:https://shannonsmith.ca/event/ralphs-texas-bar-steak-house-medicine-hat/
END:VEVENT
BEGIN:VEVENT
DTSTART;TZID=America/Edmonton:20180210T200000
DTEND;TZID=America/Edmonton:20180210T223000
DTSTAMP:20260419T105742
CREATED:20171030T020537Z
LAST-MODIFIED:20171030T022048Z
UID:39695-1518292800-1518301800@shannonsmith.ca
SUMMARY:MAN! I FEEL LIKE SHANIA TRIBUTE\, BLACK DIAMOND HOTEL\, AB (SATURDAY)
DESCRIPTION:
URL:https://shannonsmith.ca/event/man-i-feel-like-shania-tribute-black-diamond-hotel-ab/
END:VEVENT
END:VCALENDAR